BEGIN:VCALENDAR
VERSION:2.0
PRODID:-//Dokkan - ECPv6.15.17//NONSGML v1.0//EN
CALSCALE:GREGORIAN
METHOD:PUBLISH
X-ORIGINAL-URL:https://dokkan.is
X-WR-CALDESC:Events for Dokkan
REFRESH-INTERVAL;VALUE=DURATION:PT1H
X-Robots-Tag:noindex
X-PUBLISHED-TTL:PT1H
BEGIN:VTIMEZONE
TZID:Atlantic/Reykjavik
BEGIN:STANDARD
TZOFFSETFROM:+0000
TZOFFSETTO:+0000
TZNAME:GMT
DTSTART:20200101T000000
END:STANDARD
END:VTIMEZONE
BEGIN:VEVENT
DTSTART;TZID=Atlantic/Reykjavik:20211006T090000
DTEND;TZID=Atlantic/Reykjavik:20211006T094500
DTSTAMP:20260421T092114
CREATED:20210909T184612Z
LAST-MODIFIED:20211007T110829Z
UID:5866-1633510800-1633513500@dokkan.is
SUMMARY:Að endurreisa alþjóðaflugvöll eftir heimsfaraldur - helstu áskoranir
DESCRIPTION:Á Dokkufundinum fáum við innsýn í helstu áskoranir og lausnir á vegferð Keflavíkurflugvallar frá því að þjónusta tæpar 10 milljónir farþega í gegnum flugvöllinn árið 2018\, í gegnum heimsfaraldur og þar til núna þegar verið að endurræsa allar vélar flugvallarsamfélagsins. \nHverjar eru helstu áskoranir? Hvaða gildrur eru á leiðinni? Hvernig gengur að manna verkefnið? ofl. \nHverjir verða með okkur?\nAuður Ýr Sveinsdóttir\, forstöðumaður Flugverndarsviðs Isavia\, Keflavíkurflugvelli \nAnna Björk Bjarnadóttir\, framkvæmdastjóri þjónustu og rekstrarsviðs Isavia\, Keflavíkurflugvelli \nMisstir þú af fundinum?\nSkráðu þig á Dokkufundinn á hefðbundinn hátt og þú færð sendan tengil á upptöku frá fundinum.\nMikilvægt: Ef þú hefur áður skráð þig á fundinn þá þarftu að afskrá þig af fundinum – en það er einfalt – þú smellir á „Skrá mig af þessum fundi“ hér fyrir neðan skráningarformið og skráir þig svo aftur – þá færðu staðfestingarpóst með tengli á upptökuna“.\nATH: þú þarft kannski að gera Refresh á síðun á milli.
URL:https://dokkan.is/fundur/endurreisn-althjodaflugvallar-hvad-tharf-til/
LOCATION:Á vefnum
CATEGORIES:Dokkufundir - fyrir þau sem vita að framtíðin bíður ekki eftir þeim sem bíða...
ATTACH;FMTTYPE=image/jpeg:https://dokkan.is/wp-content/uploads/2021/09/ABB-i-frkv.stj_.-Isaviamm-1-1.jpg
END:VEVENT
END:VCALENDAR