BEGIN:VCALENDAR
VERSION:2.0
PRODID:-//Dokkan - ECPv6.15.17//NONSGML v1.0//EN
CALSCALE:GREGORIAN
METHOD:PUBLISH
X-WR-CALNAME:Dokkan
X-ORIGINAL-URL:https://dokkan.is
X-WR-CALDESC:Events for Dokkan
REFRESH-INTERVAL;VALUE=DURATION:PT1H
X-Robots-Tag:noindex
X-PUBLISHED-TTL:PT1H
BEGIN:VTIMEZONE
TZID:Atlantic/Reykjavik
BEGIN:STANDARD
TZOFFSETFROM:+0000
TZOFFSETTO:+0000
TZNAME:GMT
DTSTART:20200101T000000
END:STANDARD
END:VTIMEZONE
BEGIN:VEVENT
DTSTART;TZID=Atlantic/Reykjavik:20210930T090000
DTEND;TZID=Atlantic/Reykjavik:20210930T100000
DTSTAMP:20260421T090757
CREATED:20210825T123727Z
LAST-MODIFIED:20211003T143610Z
UID:5771-1632992400-1632996000@dokkan.is
SUMMARY:Einföldun og sjálfvirknivæðing ferla
DESCRIPTION:Stytting vinnuvikunnar hefur aukið eftirspurn eftir aðstoð við að einfalda og sjálfvirknivæða ferla. Jafnframt eru fyrirtæki og stofnanir sífellt að leita leiða til þess að hámarka afköst og lágmarka sóun án þess þó að það komi niður á gæðum vinnunnar. Með því að nýta sér stafrænt vinnuafl geta fyrirtæki stóraukið afköst starfsfólks síns þar sem þeir ferlar sem eru síendurteknir og tímafrekir eru sjálfvirknivæddir. \nHverjir verða með okkur?\nFyrirtækin Gemba og Evolv munu sjá um kynninguna á fundinum þar sem þau fara yfir tækifærin í einföldun ferla ásamt sjálfvirknivæðingu\, farið verður yfir hvað þarf til þegar ferli er einfaldað og sjálfvirknivætt\, raunveruleg dæmi verða sýnd. \nMisstir þú af fundinum?\nSkráðu þig á Dokkufundinn á hefðbundinn hátt og þú færð sendan tengil á upptöku frá fundinum.\nMikilvægt: Ef þú hefur áður skráð þig á fundinn þá þarftu að afskrá þig af fundinum – en það er einfalt – þú smellir á „Skrá mig af þessum fundi“ hér fyrir neðan skráningarformið og skráir þig svo aftur – þá færðu staðfestingarpóst með tengli á upptökuna“.\nATH: þú þarft kannski að gera Refresh á síðun á milli.
URL:https://dokkan.is/fundur/lean-til-godra-verka/
LOCATION:Á vefnum
CATEGORIES:Dokkufundir - fyrir þau sem vita að framtíðin bíður ekki eftir þeim sem bíða...
ATTACH;FMTTYPE=image/jpeg:https://dokkan.is/wp-content/uploads/2021/08/MyndVBGembaEvolv-1-13-2-1-1.jpg
END:VEVENT
END:VCALENDAR