BEGIN:VCALENDAR
VERSION:2.0
PRODID:-//Dokkan - ECPv6.15.17//NONSGML v1.0//EN
CALSCALE:GREGORIAN
METHOD:PUBLISH
X-ORIGINAL-URL:https://dokkan.is
X-WR-CALDESC:Events for Dokkan
REFRESH-INTERVAL;VALUE=DURATION:PT1H
X-Robots-Tag:noindex
X-PUBLISHED-TTL:PT1H
BEGIN:VTIMEZONE
TZID:Atlantic/Reykjavik
BEGIN:STANDARD
TZOFFSETFROM:+0000
TZOFFSETTO:+0000
TZNAME:GMT
DTSTART:20200101T000000
END:STANDARD
END:VTIMEZONE
BEGIN:VEVENT
DTSTART;TZID=Atlantic/Reykjavik:20210929T090000
DTEND;TZID=Atlantic/Reykjavik:20210929T094500
DTSTAMP:20260421T085258
CREATED:20210824T144300Z
LAST-MODIFIED:20211003T143647Z
UID:5767-1632906000-1632908700@dokkan.is
SUMMARY:Innleiðing og vinna með heimsmarkmið Sameinuðu þjóðanna
DESCRIPTION:Það getur reynst mörgum erfitt að ná utan um hugtakið sjálfbærni og að innleiða sjálfbærni inn í sinn rekstur. En með skilgreiningu og samhengi Heimsmarkmiða Sameinuðu þjóðanna verður strax auðveldara að ná utan um hugtakið og sjá hvernig markmiðin samræmast stefnu hvers fyrirtækis fyrir sig. \nHeimsmarkmiðin eru leiðarvísir að sjálfbærari heimi árið 2030. Þau eru markmið Sameinuðu þjóðanna um sjálfbæra þróun og hafa ríki\, sveitarfélög\, stofnanir og fyrirtæki um allan heim tileinkað sér þau. Mannvit hefur tileinkað sér Heimsmarkmið Sameinuðu þjóðanna og ætlar að miðla til okkur reynslunni af þeirri vegferð. \nHver verður með okkur?\nSandra Rán Ásgeirsdóttir\, sjálfbærniverkfræðingur hjá Mannviti \nMisstir þú af fundinum?\nSkráðu þig á Dokkufundinn á hefðbundinn hátt og þú færð sendan tengil á upptöku frá fundinum.\nMikilvægt: Ef þú hefur áður skráð þig á fundinn þá þarftu að afskrá þig af fundinum – en það er einfalt – þú smellir á „Skrá mig af þessum fundi“ hér fyrir neðan skráningarformið og skráir þig svo aftur – þá færðu staðfestingarpóst með tengli á upptökuna“.\nATH: þú þarft kannski að gera Refresh á síðun á milli. \n 
URL:https://dokkan.is/fundur/ad-vinna-med-heimsmarkmid-sameinudu-thjodana/
LOCATION:Á vefnum
CATEGORIES:Dokkufundir - fyrir þau sem vita að framtíðin bíður ekki eftir þeim sem bíða...
ATTACH;FMTTYPE=image/jpeg:https://dokkan.is/wp-content/uploads/2021/08/sandra-ran-sjalfbaerni-mannvit-1.jpg
END:VEVENT
END:VCALENDAR