BEGIN:VCALENDAR
VERSION:2.0
PRODID:-//Dokkan - ECPv6.15.17//NONSGML v1.0//EN
CALSCALE:GREGORIAN
METHOD:PUBLISH
X-ORIGINAL-URL:https://dokkan.is
X-WR-CALDESC:Events for Dokkan
REFRESH-INTERVAL;VALUE=DURATION:PT1H
X-Robots-Tag:noindex
X-PUBLISHED-TTL:PT1H
BEGIN:VTIMEZONE
TZID:Atlantic/Reykjavik
BEGIN:STANDARD
TZOFFSETFROM:+0000
TZOFFSETTO:+0000
TZNAME:GMT
DTSTART:20200101T000000
END:STANDARD
END:VTIMEZONE
BEGIN:VEVENT
DTSTART;TZID=Atlantic/Reykjavik:20210914T090000
DTEND;TZID=Atlantic/Reykjavik:20210914T094500
DTSTAMP:20260421T100853
CREATED:20210901T100313Z
LAST-MODIFIED:20210909T201514Z
UID:5801-1631610000-1631612700@dokkan.is
SUMMARY:Valdbeiting á vinnustað – rannsókn á algengi og eðli eineltis og áreitni á íslenskum vinnumarkaði
DESCRIPTION:Erindið greinir frá viðamikilli rannsókn á kynferðislegri áreitni á íslenskum vinnumarkaði. Ítarlegur spurningalisti var lagður fyrir tilviljunarúrtak fólks á aldrinum 18 til 68 ára. Í úrtakinu eru bæði innflytjendur og fólk með íslenskan uppruna. Hingað til hafa flestar rannsóknir á kynferðislegri áreitni hérlendis notað hentugleikaúrtak og einblínt á einn ákveðinn vinnustað eða starfsvettvang og því er erfitt að draga af þeim almennar ályktanir um eðli og algengi kynferðislegrar áreitni. Í rannsókninni eru prófaðar tilgátur um tengsl milli stöðu á vinnumarkaði og reynslu af því að hafa orðið fyrir áreitni með beinni mælingu (þar sem spurt er „hefur þú orðið fyrir kynferðislegri áreitni“) og óbeinni mælingu (spurningar um reynslu af móðgandi og ógnandi kynferðislegri hegðun). Rannsóknin skoðar einnig hvort munur sé neikvæðum afleiðingum af áreitni eftir því hvort viðkomandi skilgreinir sjálfa(n) sig sem þolanda eða ekki. Niðurstöður sýna meðal annars að nokkuð stór hópur fólks á íslenskum vinnumarkaði verður fyrir kynferðislegri áreitni í starfi sem hefur neikvæðar afleiðingar á líðan þeirra\, afleiðingar sem eru óháðar því hvort fólk skilgreini sig sem þolanda. \nHver verður með okkur?\nMargrét Valdimarsdóttir\, sérfræðingur hjá Félagsvísindastofnun Háskóla Íslands. \nHvar verðum við?\nÁ vefnum \nÞú færð sendan tengil á Dokkufundinn um miðja dag\, daginn fyrir fundinn. Mikilvægt er að vera skráður tímanlega til að fá tengilinn sendan. \nHér má sjá niðurstöður rannóknarinnar “Valdbeiting á vinnustað” í heil sinni.\n  \n 
URL:https://dokkan.is/fundur/valdbeiting-a-vinnustad-rannsokn-a-algengi-og-edli-eineltis-og-areitni-a-islenskum-vinnumarkadi/
LOCATION:Á vefnum
CATEGORIES:Dokkufundir - fyrir þau sem vita að framtíðin bíður ekki eftir þeim sem bíða...
ATTACH;FMTTYPE=image/jpeg:https://dokkan.is/wp-content/uploads/2021/09/MV_mynd-1-1-1.jpg
END:VEVENT
END:VCALENDAR