BEGIN:VCALENDAR
VERSION:2.0
PRODID:-//Dokkan - ECPv6.15.17//NONSGML v1.0//EN
CALSCALE:GREGORIAN
METHOD:PUBLISH
X-WR-CALNAME:Dokkan
X-ORIGINAL-URL:https://dokkan.is
X-WR-CALDESC:Events for Dokkan
REFRESH-INTERVAL;VALUE=DURATION:PT1H
X-Robots-Tag:noindex
X-PUBLISHED-TTL:PT1H
BEGIN:VTIMEZONE
TZID:Atlantic/Reykjavik
BEGIN:STANDARD
TZOFFSETFROM:+0000
TZOFFSETTO:+0000
TZNAME:GMT
DTSTART:20200101T000000
END:STANDARD
END:VTIMEZONE
BEGIN:VEVENT
DTSTART;TZID=Atlantic/Reykjavik:20210520T090000
DTEND;TZID=Atlantic/Reykjavik:20210520T094500
DTSTAMP:20260421T161747
CREATED:20210421T150038Z
LAST-MODIFIED:20210525T072850Z
UID:5712-1621501200-1621503900@dokkan.is
SUMMARY:Leitin að peningunum: Af hverju tekst sumum alltaf að finna peninga meðan aðrir eru alltaf blankir?
DESCRIPTION:Leitin að peningunum er ferðalag þar sem markmiðið er að finna svarið við spurningunni „Af hverju tekst sumum alltaf að finna peninga meðan aðrir eru alltaf blankir? \nVið sem samfélag tölum nú orðið af sífellt minni feimni um nánast allt annað. Sjálfsvíg\, barnaníð\, geðsjúkdóma\, pólitík\, kynlíf\, sálfræðinginn okkar og allt þar á milli\, enda allt eitthvað sem er mikilvægt að koma ekki fram við sem leyndarmál. \nEn alltaf þegar við tölum um peninga er það í samhengi fyrirtækja eða ríkisfjármála og milljarðamæringa og nánast aldrei út frá bæjardyrum venjulegs fólks með venjulegar tekjur og tilfinningar\, sem lifir venjulegu lífi og þarf venjulegar leiðir til að ná venjulegum fjárhagslegum markmiðum. \nÍ hlaðvarpsþættinum „Leitinni að peningunum“ gerum við nákvæmlega það. Hjálpum venjulegu fólki að öðlast betri skilning á fjármálum\, hjálpa fólki í áttina að fjárhagslegu sjálfstæði\, efla getu til að takast á við fjárhagsleg áföll og líka getu til að grípa þau tækifæri sem felast í auknu\, fjárhagslegu sjálfstæði. Og opna umræðuna um fjármál einstaklinga. \nÞess vegna leitumst við við því að spyrja réttra spurninga og fá réttu svörin um peninga frá rétta fólkinu. Spurningarnar og svörin ættu að gagnast bæði byrjendum og lengra komnum í fjármálum.Leitin að peningunum er hlaðvarp sem framleitt er af Umboðsmanni skuldara með stuðningi frá félagsmálaráðuneytinu og var hleypt af stokkunum til að stuðla að auknu fjármálalæsi\, sérstaklega meðal ungs fólks og fólks sem er að taka sín fyrstu skref í fjármálum.\nÞættirnir hófu göngu sína í október í fyrra og hafa notið mikilla vinsælda og eru iðulega meðal mest sóttu þátta á helstu hlaðvarpsveitum. Umsjónarmaður þáttanna er Gunnar Dofri Ólafsson. \nÁ Dokkufundinum ætlum við að þiggja nokkur góð ráð og fá innsýn í þá aðferðafræði sem verkefnið „Leitin að peningunum!“ byggir á. \nHver?\nGunnar Dorfi í samstarfi við Umboðsmann skuldara. \nHvar?\nÁ vefnum
URL:https://dokkan.is/fundur/leitin-ad-peningunum-2/
LOCATION:Á vefnum
CATEGORIES:Dokkufundir - fyrir þau sem vita að framtíðin bíður ekki eftir þeim sem bíða...
ATTACH;FMTTYPE=image/jpeg:https://dokkan.is/wp-content/uploads/2021/01/97977181_10159897643499126_1412978394240385024_n-1-1-1.jpg
END:VEVENT
END:VCALENDAR