BEGIN:VCALENDAR
VERSION:2.0
PRODID:-//Dokkan - ECPv6.15.17//NONSGML v1.0//EN
CALSCALE:GREGORIAN
METHOD:PUBLISH
X-WR-CALNAME:Dokkan
X-ORIGINAL-URL:https://dokkan.is
X-WR-CALDESC:Events for Dokkan
REFRESH-INTERVAL;VALUE=DURATION:PT1H
X-Robots-Tag:noindex
X-PUBLISHED-TTL:PT1H
BEGIN:VTIMEZONE
TZID:Atlantic/Reykjavik
BEGIN:STANDARD
TZOFFSETFROM:+0000
TZOFFSETTO:+0000
TZNAME:GMT
DTSTART:20200101T000000
END:STANDARD
END:VTIMEZONE
BEGIN:VEVENT
DTSTART;TZID=Atlantic/Reykjavik:20210512T090000
DTEND;TZID=Atlantic/Reykjavik:20210512T094500
DTSTAMP:20260421T161746
CREATED:20210412T134544Z
LAST-MODIFIED:20210516T194932Z
UID:5674-1620810000-1620812700@dokkan.is
SUMMARY:Gagnrýnin hugsun bjargar okkur úr viljum vanans
DESCRIPTION:Á undanförnum árum hefur mikið verið rætt um mikilvægi gagnrýninnar hugsunar í tengslum við það hvernig hún getur bjargað okkur úr viðjum vanans. Einungis gagnrýnin viðhorf geta varpað ljósi á veilur í skaðandi hefðum sem eiga það til að búa um sig í ólíkri menningu stofnana\, fyrirtækja og samfélagsins alls. En hvað gerist þegar við stöndum frammi fyrir nýjum og jafnvel óvæntum áskorunum? Er gildi gagnrýninnar hugsunar jafn mikilvægt í þeim aðstæðum? \nÁ Dokkufundinum mun Henry Alexander spjalla um um hvað við höfum lært um gildi gagnrýninnar hugsunar í ljósi heimsfaraldurs Covid-19 og hvaða lærdóma má draga af viðbrögðum samfélagsins við þennan vágest. \nHver?\nHenry Alexander Henrysson. Auk háskólakennslu hefur Henry um árabil haldið fyrirlestra og námskeið fyrir fyrirtæki og stofnanir um siðferðilega og vandaða ákvarðanatöku. Eftir hann hafa komið út bækur og fræðigreinar á sviði heimspeki ásamt fjölda blaðagreina um samfélagsmál. \nHvar?\nÁ vefnum \n  \n 
URL:https://dokkan.is/fundur/gagnrynin-hugsun-er-fyrir-alla/
LOCATION:Á vefnum
CATEGORIES:Dokkufundir - fyrir þau sem vita að framtíðin bíður ekki eftir þeim sem bíða...
ATTACH;FMTTYPE=image/jpeg:https://dokkan.is/wp-content/uploads/2021/04/HAH1_SH_L-1-1-1.jpg
END:VEVENT
END:VCALENDAR