BEGIN:VCALENDAR
VERSION:2.0
PRODID:-//Dokkan - ECPv6.15.17//NONSGML v1.0//EN
CALSCALE:GREGORIAN
METHOD:PUBLISH
X-ORIGINAL-URL:https://dokkan.is
X-WR-CALDESC:Events for Dokkan
REFRESH-INTERVAL;VALUE=DURATION:PT1H
X-Robots-Tag:noindex
X-PUBLISHED-TTL:PT1H
BEGIN:VTIMEZONE
TZID:Atlantic/Reykjavik
BEGIN:STANDARD
TZOFFSETFROM:+0000
TZOFFSETTO:+0000
TZNAME:GMT
DTSTART:20200101T000000
END:STANDARD
END:VTIMEZONE
BEGIN:VEVENT
DTSTART;TZID=Atlantic/Reykjavik:20210506T090000
DTEND;TZID=Atlantic/Reykjavik:20210506T094500
DTSTAMP:20260421T161909
CREATED:20210416T145509Z
LAST-MODIFIED:20210510T072711Z
UID:5689-1620291600-1620294300@dokkan.is
SUMMARY:„Hið ómögulega tekur aðeins lengri tíma“ - Líf og stjórnun í farsóttarhúsi
DESCRIPTION:Á þessum 45 mínútna Dokku-fundi munum við kynnast lífinu\, gleðinni og sorginni  í sóttvarnar- og farsóttarhúsum. Hvernig er stjórnun háttað þegar agi og sóttvarnir þurfa að ráða ríkjum og verkefnin eru erfið en samt þarf að vera svo gaman í vinnunni að sjálfboðaliðar og starfsfólk vilji mæta aftur? Hvernig er að vinna undir mikilli tímapressu við úrlausn óþekkts verkefnis á algjörum óvissutímum? \nGylfi mun segja frá starfi sínu síðastliðið ár en hann var ráðinn af Rauða krossi Íslands í febrúar 2020 til að takast á við óvenjulegt verkefni – að opna farsóttarhús vegna heimsfaraldurs. Fyrst um sinn var farsóttarhúsið á Rauðarárstíg eingöngu mannað af sjálfboðaliðum en síðan þá hefur Rauði krossinn haft umsjón með sóttvarnar- og farsóttarhúsum víða um land og eru starfsmenn þeirra í dag um 80 talsins. \nHver?\nGylfi Þór Þorsteinsson\, umsjónarmaður Sóttvarnarhúsa Rauða kross Íslands \nMisstir þú af fundinum?\nSkráðu þig á Dokkufundinn á hefðbundinn hátt og þú færð sendan tengil á upptöku frá fundinum.\nMikilvægt: Ef þú hefur áður skráð þig á fundinn þá þarftu að afskrá þig af fundinum – en það er einfalt – þú smellir á „Skrá mig af þessum fundi“ hér fyrir neðan skráningarformið og skráir þig svo aftur – þá færðu staðfestingarpóst með tengli á upptökuna“.\nATH: þú þarft kannski að gera Refresh á síðun á milli.
URL:https://dokkan.is/fundur/stjornun-og-daglegt-lif-i-stottvarnarhusi/
LOCATION:Á vefnum
CATEGORIES:Dokkufundir - fyrir þau sem vita að framtíðin bíður ekki eftir þeim sem bíða...
ATTACH;FMTTYPE=image/jpeg:https://dokkan.is/wp-content/uploads/2021/04/gylfi.raudikross-1-1...jpg
END:VEVENT
END:VCALENDAR