BEGIN:VCALENDAR
VERSION:2.0
PRODID:-//Dokkan - ECPv6.15.17//NONSGML v1.0//EN
CALSCALE:GREGORIAN
METHOD:PUBLISH
X-ORIGINAL-URL:https://dokkan.is
X-WR-CALDESC:Events for Dokkan
REFRESH-INTERVAL;VALUE=DURATION:PT1H
X-Robots-Tag:noindex
X-PUBLISHED-TTL:PT1H
BEGIN:VTIMEZONE
TZID:Atlantic/Reykjavik
BEGIN:STANDARD
TZOFFSETFROM:+0000
TZOFFSETTO:+0000
TZNAME:GMT
DTSTART:20200101T000000
END:STANDARD
END:VTIMEZONE
BEGIN:VEVENT
DTSTART;TZID=Atlantic/Reykjavik:20210505T090000
DTEND;TZID=Atlantic/Reykjavik:20210505T094500
DTSTAMP:20260421T161909
CREATED:20210416T150817Z
LAST-MODIFIED:20210509T150558Z
UID:5693-1620205200-1620207900@dokkan.is
SUMMARY:Framþróun í lífi & starfi!
DESCRIPTION:Mundu að gera copy / paste:\n\nhttps://teams.microsoft.com/l/meetup-join/19:meeting_ZTc1MzIwZmEtMWVlOS00ZDI0LWIxNDAtM2IyM2EzZTM2NzY1@thread.v2/0?context=%7B%22Tid%22:%227fca5412-507a-4073-b17e-04026dd8ab65%22\,%22Oid%22:%226ea4a54b-2ee5-4e23-afe1-6da553fb694c%22%7D\n\n\nHver?\nÁ þessum Dokkufundi veltum við fyrir okkur starfsþróun (framþróun) í lífi og starfi\, og hvernig hægt er að nota coaching (markþjálfun) til að taka ábyrgð á eigin starfsþróun og framþórunn almennt\nVið vitum að verkfæri markþjálfunar nýtast vel þegar við stöndum á tímamótum\, þegar við viljum gera breytingar og vaxa enn frekar\, hvort sem um er að ræða á sama stað eða frá einum stað til annars. Við viljum öll eitthvað sem við þorum kannski ekki að segja upphátt – eigum við að þora?\nVið skoðum hvernig verkfæri markþjálfunar geta hjálpað okkur áfram.\nUnnur María Birgisdóttir\, þjálfunarsálfræðingur og framkvæmdastjóri People Experience hjá Geko og Maríanna Magrnúsdóttir\, umbreytingaþjálfari hjá Manino\,\nMisstir þú af fundinum?\nSkráðu þig á Dokkufundinn á hefðbundinn hátt og þú færð sendan tengil á upptöku frá fundinum.\nMikilvægt: Ef þú hefur áður skráð þig á fundinn þá þarftu að afskrá þig af fundinum – en það er einfalt – þú smellir á „Skrá mig af þessum fundi“ hér fyrir neðan skráningarformið og skráir þig svo aftur – þá færðu staðfestingarpóst með tengli á upptökuna“.\nATH: þú þarft kannski að gera Refresh á síðun á milli.
URL:https://dokkan.is/fundur/framthroun-i-lifi-starfi/
LOCATION:Á vefnum
CATEGORIES:Dokkufundir - fyrir þau sem vita að framtíðin bíður ekki eftir þeim sem bíða...
ATTACH;FMTTYPE=image/jpeg:https://dokkan.is/wp-content/uploads/2021/04/unna-og-m-1-1-1.jpg
END:VEVENT
END:VCALENDAR