BEGIN:VCALENDAR
VERSION:2.0
PRODID:-//Dokkan - ECPv6.15.17//NONSGML v1.0//EN
CALSCALE:GREGORIAN
METHOD:PUBLISH
X-WR-CALNAME:Dokkan
X-ORIGINAL-URL:https://dokkan.is
X-WR-CALDESC:Events for Dokkan
REFRESH-INTERVAL;VALUE=DURATION:PT1H
X-Robots-Tag:noindex
X-PUBLISHED-TTL:PT1H
BEGIN:VTIMEZONE
TZID:Atlantic/Reykjavik
BEGIN:STANDARD
TZOFFSETFROM:+0000
TZOFFSETTO:+0000
TZNAME:GMT
DTSTART:20200101T000000
END:STANDARD
END:VTIMEZONE
BEGIN:VEVENT
DTSTART;TZID=Atlantic/Reykjavik:20210416T090000
DTEND;TZID=Atlantic/Reykjavik:20210416T094500
DTSTAMP:20260421T180342
CREATED:20210311T191516Z
LAST-MODIFIED:20210419T094157Z
UID:5556-1618563600-1618566300@dokkan.is
SUMMARY:Látum ekki blekkjast! Hugvekja um upplýsingaöryggi og hegðun
DESCRIPTION:Tölvu- og netárásir á einstaklinga og fyrirtæki eru því miður komnar til að vera og vaxa um tugi prósenta árlega. Yfir 90% netsvika ganga út á það að fólk „bíti á agnið”. Þess vegna er árvekni og hegðun fólks orðin ein stærsta öryggishola fyrirtækja og heimila. \nHugvekjan fjallar ekki um tækni heldur er henni ætlað að vekja okkur til umhugsunar um okkar eigin ábyrgð í umgengni við gögn sem við vinnum með og sem tilheyra okkar sjálfum eins og t.d. ljósmyndir / minningar sem við viljum ekki missa. \nHver?\nGuðmundur Stefán Björnsson\, sérfræðingur hjá Sensa \nMisstir þú af fundinum?\nSkráðu þig á Dokkufundinn á hefðbundinn hátt og þú færð sendan tengil á upptöku frá fundinum.\nMikilvægt: Ef þú hefur áður skráð þig á fundinn þá þarftu að afskrá þig af fundinum – en það er einfalt – þú smellir á „Skrá mig af þessum fundi“ hér fyrir neðan skráningarformið og skráir þig svo aftur – þá færðu staðfestingarpóst með tengli á upptökuna“.\nATH: þú þarft kannski að gera Refresh á síðun á milli.
URL:https://dokkan.is/fundur/latum-ekki-blekkjast-hugvekja-um-upplysingaoryggi-og-hegdun/
LOCATION:Á vefnum
CATEGORIES:Dokkufundir - fyrir þau sem vita að framtíðin bíður ekki eftir þeim sem bíða...
ATTACH;FMTTYPE=image/jpeg:https://dokkan.is/wp-content/uploads/2021/03/GSBmynd.jpg
END:VEVENT
END:VCALENDAR