BEGIN:VCALENDAR
VERSION:2.0
PRODID:-//Dokkan - ECPv6.15.17//NONSGML v1.0//EN
CALSCALE:GREGORIAN
METHOD:PUBLISH
X-WR-CALNAME:Dokkan
X-ORIGINAL-URL:https://dokkan.is
X-WR-CALDESC:Events for Dokkan
REFRESH-INTERVAL;VALUE=DURATION:PT1H
X-Robots-Tag:noindex
X-PUBLISHED-TTL:PT1H
BEGIN:VTIMEZONE
TZID:Atlantic/Reykjavik
BEGIN:STANDARD
TZOFFSETFROM:+0000
TZOFFSETTO:+0000
TZNAME:GMT
DTSTART:20200101T000000
END:STANDARD
END:VTIMEZONE
BEGIN:VEVENT
DTSTART;TZID=Atlantic/Reykjavik:20210414T090000
DTEND;TZID=Atlantic/Reykjavik:20210414T094500
DTSTAMP:20260421T175909
CREATED:20210318T163448Z
LAST-MODIFIED:20210419T082226Z
UID:5577-1618390800-1618393500@dokkan.is
SUMMARY:Stafrænt ryk - að breyta hegðun með gögnum
DESCRIPTION:Með aukinni tækni sem safnar stafrænu ryki (e. Digital Dust) daglegs lífs\, gögnum sem spanna stafræna og líkamlega heiminn\, er hægt að nota upplýsingar til að hafa áhrif á hegðun með auknu upplýsingaflæði. Sem dæmi geta fjarskiptatæki fylgst með aksturshegðun í atvinnubílum\, allt frá skyndilegri hemlun til krappra beygja. \nEn – hvað þýðir þetta allt saman og hvernig getur starfrænt ryk gagnast fyrirtækjum\, stofnunum og opinberum aðilum og hvað áhrif hefur þessi upplýsingasöfnun viðskiptavini og árangur fyrirtækja. \nHver?\nSnæbjörn Ingi Ingólfsson\, viðskiptastjóri hjá Origo\n\nMisstir þú af fundinum?\nSkráðu þig á Dokkufundinn á hefðbundinn hátt og þú færð sendan tengil á upptöku frá fundinum.\nMikilvægt: Ef þú hefur áður skráð þig á fundinn þá þarftu að afskrá þig af fundinum – en það er einfalt – þú smellir á „Skrá mig af þessum fundi“ hér fyrir neðan skráningarformið og skráir þig svo aftur – þá færðu staðfestingarpóst með tengli á upptökuna“.\nATH: þú þarft kannski að gera Refresh á síðun á milli.
URL:https://dokkan.is/fundur/stafraent-ryk-ad-breyta-hegdun-med-gognum/
LOCATION:Á vefnum
CATEGORIES:Dokkufundir - fyrir þau sem vita að framtíðin bíður ekki eftir þeim sem bíða...
ATTACH;FMTTYPE=image/jpeg:https://dokkan.is/wp-content/uploads/2021/03/b273fe677aaf15ba54f4f1cb586def50-1-1.jpg
END:VEVENT
END:VCALENDAR