BEGIN:VCALENDAR
VERSION:2.0
PRODID:-//Dokkan - ECPv6.15.17//NONSGML v1.0//EN
CALSCALE:GREGORIAN
METHOD:PUBLISH
X-ORIGINAL-URL:https://dokkan.is
X-WR-CALDESC:Events for Dokkan
REFRESH-INTERVAL;VALUE=DURATION:PT1H
X-Robots-Tag:noindex
X-PUBLISHED-TTL:PT1H
BEGIN:VTIMEZONE
TZID:Atlantic/Reykjavik
BEGIN:STANDARD
TZOFFSETFROM:+0000
TZOFFSETTO:+0000
TZNAME:GMT
DTSTART:20200101T000000
END:STANDARD
END:VTIMEZONE
BEGIN:VEVENT
DTSTART;TZID=Atlantic/Reykjavik:20210408T090000
DTEND;TZID=Atlantic/Reykjavik:20210408T094500
DTSTAMP:20260421T175801
CREATED:20210319T194842Z
LAST-MODIFIED:20210412T071136Z
UID:5586-1617872400-1617875100@dokkan.is
SUMMARY:Fundatækni fyrir fullorðna - markvissari fundir í eigin persónu og á Teams
DESCRIPTION:Fundir geta verið frábær tæki til að stýra fyrirtækjum\, deildum eða einstökum verkefnum en því miður eru margir sammála um að fundir mættu almennt vera betur skipulagðir og þeim betur stjórnað. Í huga margra koma fyrr upp minningar um slæma fundi en virkilega góða. Fundir geta og ættu að vera frábært verkfæri til stjórnunar og samráðs á öllum sviðum. \nÁ Dokkufundinum fáum við nokkur góð ráð\, og aðallega EITT\, sem hjálpa okkur að gera fundi markvissari og okkur að betri stjórnendum funda og fundarmönnum. \nHver?\nGunnar Jónatansson\, þjálfari hjá IBT á Íslandi \nMisstir þú af fundinum?\nSkráðu þig á Dokkufundinn á hefðbundinn hátt og þú færð sendan tengil á upptöku frá fundinum.\nMikilvægt: Ef þú hefur áður skráð þig á fundinn þá þarftu að afskrá þig af fundinum – en það er einfalt – þú smellir á „Skrá mig af þessum fundi“ hér fyrir neðan skráningarformið og skráir þig svo aftur – þá færðu staðfestingarpóst með tengli á upptökuna”.
URL:https://dokkan.is/fundur/fundataekni-fyrir-fullordna-markvissari-fundir-i-eigin-personu-og-a-teams/
LOCATION:Á vefnum
CATEGORIES:Dokkufundir - fyrir þau sem vita að framtíðin bíður ekki eftir þeim sem bíða...
ATTACH;FMTTYPE=image/jpeg:https://dokkan.is/wp-content/uploads/2021/03/5cdff8ba7c5e2fb15dfd0229_Gunni_ibt_33-1-1.jpg
END:VEVENT
END:VCALENDAR