BEGIN:VCALENDAR
VERSION:2.0
PRODID:-//Dokkan - ECPv6.15.17//NONSGML v1.0//EN
CALSCALE:GREGORIAN
METHOD:PUBLISH
X-WR-CALNAME:Dokkan
X-ORIGINAL-URL:https://dokkan.is
X-WR-CALDESC:Events for Dokkan
REFRESH-INTERVAL;VALUE=DURATION:PT1H
X-Robots-Tag:noindex
X-PUBLISHED-TTL:PT1H
BEGIN:VTIMEZONE
TZID:Atlantic/Reykjavik
BEGIN:STANDARD
TZOFFSETFROM:+0000
TZOFFSETTO:+0000
TZNAME:GMT
DTSTART:20200101T000000
END:STANDARD
END:VTIMEZONE
BEGIN:VEVENT
DTSTART;TZID=Atlantic/Reykjavik:20210211T090000
DTEND;TZID=Atlantic/Reykjavik:20210211T094500
DTSTAMP:20260421T212727
CREATED:20210127T123301Z
LAST-MODIFIED:20210215T115204Z
UID:5435-1613034000-1613036700@dokkan.is
SUMMARY:Algengar innbyggðar hugsanaskekkjur og áhrif þeirra á samskipti fólks á vinnustöðum
DESCRIPTION:Við tökum 35 þúsund ákvarðanir á hverjum degi. Aðeins örfáar þeirra eru meðvitaðar og enn færri eru úthugsaðar. Flestar þeirra hafa samt áhrif á störf okkar og samstarfsfólk með einhverjum hætti. Á fundinum verður veitt innsýn í áhrif ómeðvitaðrar hlutdrægni á vinnustaðarmenningu út frá jafnréttis- og fjölbreytileikasjónarmiðum og þær aðferðir sem hægt er að nota til að draga úr áhrifunum.\n\n\nTil að fá sem mest út úr fundinum eru þátttakendur hvattir til að taka eitt eða fleiri próf í ómeðvitaðri hlutdrægni á eftirfarandi slóð:\nhttps://implicit.harvard.edu/implicit/takeatest.html\n\n\nHver?\nSóley Tómasdóttir er kynja- og fjölbreytileikafræðingur og eigandi Just Consulting. Sérfræðiþekking Sóleyjar samanstendur af áratuga reynslu af stjórnun\, stjórnmálum og samfélagsrýni í bland við akademískar rannsóknir á stöðu kvenna og jaðarsettra hópa á vinnustöðum.\n\nHvar?\nFundurinn verður endurtekin þ. 23.mars kl. 9.00Skráning hér:\nSkráning hér\n 
URL:https://dokkan.is/fundur/jafnretti-i-nyju-ljosi/
LOCATION:Á vefnum
CATEGORIES:Dokkufundir - fyrir þau sem vita að framtíðin bíður ekki eftir þeim sem bíða...
ATTACH;FMTTYPE=image/jpeg:https://dokkan.is/wp-content/uploads/2021/01/unnamed-1-1-1-scaled.jpg
END:VEVENT
END:VCALENDAR