BEGIN:VCALENDAR
VERSION:2.0
PRODID:-//Dokkan - ECPv6.15.17//NONSGML v1.0//EN
CALSCALE:GREGORIAN
METHOD:PUBLISH
X-ORIGINAL-URL:https://dokkan.is
X-WR-CALDESC:Events for Dokkan
REFRESH-INTERVAL;VALUE=DURATION:PT1H
X-Robots-Tag:noindex
X-PUBLISHED-TTL:PT1H
BEGIN:VTIMEZONE
TZID:Atlantic/Reykjavik
BEGIN:STANDARD
TZOFFSETFROM:+0000
TZOFFSETTO:+0000
TZNAME:GMT
DTSTART:20200101T000000
END:STANDARD
END:VTIMEZONE
BEGIN:VEVENT
DTSTART;TZID=Atlantic/Reykjavik:20210120T090000
DTEND;TZID=Atlantic/Reykjavik:20210120T094500
DTSTAMP:20260421T231210
CREATED:20201208T213921Z
LAST-MODIFIED:20210121T111110Z
UID:5227-1611133200-1611135900@dokkan.is
SUMMARY:Great place to work - CCP Games hlýtur vottun
DESCRIPTION:Það ferli að fá vottunina Great Place to Work er afar langt og strangt – en samt vel þess virði að fara í gegnum\, segja þau hjá CCP\, enda starfar CCP á hörðum samkeppnismarkaði um hæft starfsfólk. Við fáum að vita allt um ferlið að vottuninni og hvað hún þýðir fyrir CCP. \nNánari lýsing væntanleg. \nHver?\nGunnar Haugen og Erna Arnardóttir \nFundurinn var ekki tekin upp en verður endurtekin fljótlega\, fylgstu vel með 💛
URL:https://dokkan.is/fundur/great-place-to-work/
LOCATION:Á vefnum
CATEGORIES:Dokkufundir - fyrir þau sem vita að framtíðin bíður ekki eftir þeim sem bíða...
ATTACH;FMTTYPE=image/jpeg:https://dokkan.is/wp-content/uploads/2020/12/1218154-1-1-1.jpg
END:VEVENT
END:VCALENDAR