BEGIN:VCALENDAR
VERSION:2.0
PRODID:-//Dokkan - ECPv6.15.17//NONSGML v1.0//EN
CALSCALE:GREGORIAN
METHOD:PUBLISH
X-ORIGINAL-URL:https://dokkan.is
X-WR-CALDESC:Events for Dokkan
REFRESH-INTERVAL;VALUE=DURATION:PT1H
X-Robots-Tag:noindex
X-PUBLISHED-TTL:PT1H
BEGIN:VTIMEZONE
TZID:Atlantic/Reykjavik
BEGIN:STANDARD
TZOFFSETFROM:+0000
TZOFFSETTO:+0000
TZNAME:GMT
DTSTART:20200101T000000
END:STANDARD
END:VTIMEZONE
BEGIN:VEVENT
DTSTART;TZID=Atlantic/Reykjavik:20210119T090000
DTEND;TZID=Atlantic/Reykjavik:20210119T094500
DTSTAMP:20260421T231210
CREATED:20201208T163011Z
LAST-MODIFIED:20210120T091856Z
UID:5223-1611046800-1611049500@dokkan.is
SUMMARY:Hvernig sköpum við einstaka og eftiminnilega þjónustuupplifun?
DESCRIPTION:Góð þjónusta er í dag orðin sjálfsagður hlutur og verða því fyrirtæki að ganga mun lengra til að skara framúr. Þau þurfa að bjóða ofurþjónustu. Fyrirtæki sem fara framúr væntingum uppskera ekki aðeins endurtekin kaup heldur laða ánægðir viðskiptavinir nýja inn\, með því að segja frá upplifun sinni á netinu og í raunheimum. Lykillinn að meðmælum er að fara framúr væntingum og búa til jákvæða. \nHver?\nGuðmundur Arnar Guðmundsson\, reynslubolti á sviði markaðs- og þjónustustjórnunar m.a. sem markaðs- og þjónustumarkaðsstjóri Íslandsbanka\, Nova og WOW air. Ennfremur var hann markaðsstjóri Icelandair í Bretlandi og vörumerkjastjóri Icelandair á Íslandi. \nMisstir þú af fundinum?\nSkráðu þig á Dokkufundinn á hefðbundinn hátt og þú færð sendan tengil á upptöku frá fundinum.\nMikilvægt: Ef þú hefur áður skráð þig á fundinn þá þarftu að afskrá þig af fundinum – en það er einfalt – þú smellir á „Skrá mig af þessum fundi“ hér fyrir neðan skráningarformið og skráir þig svo aftur – þá færðu staðfestingarpóst með tengli á upptökuna.
URL:https://dokkan.is/fundur/thjonustuupplifun-thjonustustjornun/
LOCATION:Á vefnum
CATEGORIES:Dokkufundir - fyrir þau sem vita að framtíðin bíður ekki eftir þeim sem bíða...
ATTACH;FMTTYPE=image/jpeg:https://dokkan.is/wp-content/uploads/2020/12/d4a6929-21-1-1.jpg
END:VEVENT
END:VCALENDAR