BEGIN:VCALENDAR
VERSION:2.0
PRODID:-//Dokkan - ECPv6.15.17//NONSGML v1.0//EN
CALSCALE:GREGORIAN
METHOD:PUBLISH
X-ORIGINAL-URL:https://dokkan.is
X-WR-CALDESC:Events for Dokkan
REFRESH-INTERVAL;VALUE=DURATION:PT1H
X-Robots-Tag:noindex
X-PUBLISHED-TTL:PT1H
BEGIN:VTIMEZONE
TZID:Atlantic/Reykjavik
BEGIN:STANDARD
TZOFFSETFROM:+0000
TZOFFSETTO:+0000
TZNAME:GMT
DTSTART:20200101T000000
END:STANDARD
END:VTIMEZONE
BEGIN:VEVENT
DTSTART;TZID=Atlantic/Reykjavik:20210115T090000
DTEND;TZID=Atlantic/Reykjavik:20210115T094500
DTSTAMP:20260421T231229
CREATED:20201207T084749Z
LAST-MODIFIED:20210118T112417Z
UID:5204-1610701200-1610703900@dokkan.is
SUMMARY:Lean hjá Veitum
DESCRIPTION:Guðbjörg Sæunn og Páll Ragnar hjá Veitum ætla að segja frá því hvernig Fráveitan hefur verið að nýta Lean verkfærin síðustu tvo ár með því markmiði að einfalda vinnuna\, eyða út sóun og sjá tækifærin daglega. Guðbjörg Sæunn mun kynna hvernig Veitur ætla nýta sér stefnuþrista A3 til að ná að virkri stefnumótun fyrir 2021. Virkja alla starfsmenn með skýra og einfalda stefnu.\n\n\n\n\n\n\n\n\n\n\n\n\n\n\n\n\n\n\n\n\n\n\n\n\n\n\n\n\n\n\n\n\n\n\n\n\n\nHver?\nGuðbjörg Sæunn Friðriksdóttir\, forstöðumaður framtíðarsýnar og reksturs &\nPáll Ragnar Pálsson\, verkstjóri Fráveitu\nMisstir þú af fundinum?\nSkráðu þig á Dokkufundinn á hefðbundinn hátt og þú færð sendan tengil á upptöku frá fundinum.\nMikilvægt: Ef þú hefur áður skráð þig á fundinn þá þarftu að afskrá þig af fundinum – en það er einfalt – þú smellir á „Skrá mig af þessum fundi“ hér fyrir neðan skráningarformið og skráir þig svo aftur – þá færðu staðfestingarpóst með tengli á upptökuna.
URL:https://dokkan.is/fundur/lean-hja-veitum-2/
LOCATION:Á vefnum
CATEGORIES:Dokkufundir - fyrir þau sem vita að framtíðin bíður ekki eftir þeim sem bíða...
ATTACH;FMTTYPE=image/jpeg:https://dokkan.is/wp-content/uploads/2020/12/kkk.jpg
END:VEVENT
END:VCALENDAR