BEGIN:VCALENDAR
VERSION:2.0
PRODID:-//Dokkan - ECPv6.15.17//NONSGML v1.0//EN
CALSCALE:GREGORIAN
METHOD:PUBLISH
X-ORIGINAL-URL:https://dokkan.is
X-WR-CALDESC:Events for Dokkan
REFRESH-INTERVAL;VALUE=DURATION:PT1H
X-Robots-Tag:noindex
X-PUBLISHED-TTL:PT1H
BEGIN:VTIMEZONE
TZID:Atlantic/Reykjavik
BEGIN:STANDARD
TZOFFSETFROM:+0000
TZOFFSETTO:+0000
TZNAME:GMT
DTSTART:20200101T000000
END:STANDARD
END:VTIMEZONE
BEGIN:VEVENT
DTSTART;TZID=Atlantic/Reykjavik:20210114T150000
DTEND;TZID=Atlantic/Reykjavik:20210114T160000
DTSTAMP:20260421T231210
CREATED:20201221T085034Z
LAST-MODIFIED:20210118T112447Z
UID:5266-1610636400-1610640000@dokkan.is
SUMMARY:Heilsuefling á vinnustöðum – ný viðmið og reynslan af innleiðingu þeirra
DESCRIPTION:Við fáum innsýn í ný viðmið fyrir heilsueflandi vinnustaði og reynslu fyrirtækja af því að vinna með hin nýju viðmið. \nÞau sem verða með okkur:\n\nGunnhildur Gísladóttir frá Vinnueftirlitinu\nIngibjörg Loftsdóttir frá VIRK Starfsendurhæfingarsjóði\nLíney Árnadóttir frá VIRK Starfsendurhæfingarsjóði\nSigríður Kristín Hrafnkelsdóttir frá embætti landlæknis\n\nSíðan mun Sveina Berglind Jónsdóttir frá Icelandair segja okkur frá því hvernig ferlið hefur gengið hjá þeim\, en þau hafa tekið þátt í tilraunaverkefni á notkun heilsueflandi viðmiðanna. \nMisstir þú af fundinum?\nSkráðu þig á Dokkufundinn á hefðbundinn hátt og þú færð sendan tengil á upptöku frá fundinum.\nMikilvægt: Ef þú hefur áður skráð þig á fundinn þá þarftu að afskrá þig af fundinum – en það er einfalt – þú smellir á „Skrá mig af þessum fundi“ hér fyrir neðan skráningarformið og skráir þig svo aftur – þá færðu staðfestingarpóst með tengli á upptökuna.
URL:https://dokkan.is/fundur/heilsuefling-a-vinnustodum-ny-vidmid-og-reynslan-af-innleidingu-theirra-2/
LOCATION:Á vefnum
CATEGORIES:Dokkufundir - fyrir þau sem vita að framtíðin bíður ekki eftir þeim sem bíða...
ATTACH;FMTTYPE=image/png:https://dokkan.is/wp-content/uploads/2020/12/Heilsueflandi-vinnustadur-logo2-1-1.png
END:VEVENT
END:VCALENDAR