BEGIN:VCALENDAR
VERSION:2.0
PRODID:-//Dokkan - ECPv6.15.17//NONSGML v1.0//EN
CALSCALE:GREGORIAN
METHOD:PUBLISH
X-ORIGINAL-URL:https://dokkan.is
X-WR-CALDESC:Events for Dokkan
REFRESH-INTERVAL;VALUE=DURATION:PT1H
X-Robots-Tag:noindex
X-PUBLISHED-TTL:PT1H
BEGIN:VTIMEZONE
TZID:Atlantic/Reykjavik
BEGIN:STANDARD
TZOFFSETFROM:+0000
TZOFFSETTO:+0000
TZNAME:GMT
DTSTART:20200101T000000
END:STANDARD
END:VTIMEZONE
BEGIN:VEVENT
DTSTART;TZID=Atlantic/Reykjavik:20210108T090000
DTEND;TZID=Atlantic/Reykjavik:20210108T094500
DTSTAMP:20260421T231211
CREATED:20201209T113648Z
LAST-MODIFIED:20210111T093032Z
UID:5232-1610096400-1610099100@dokkan.is
SUMMARY:Fjártækni framtíðarinnar
DESCRIPTION:Hvað ber fjártækni framtíðarinnar í skauti sér og hvaða áhrif mun hafa á stjórnun og rekstur fyrirtækja – og okkur sem einstaklinga? \nGunnlaugur mun tala um framtíð fjártækni og þar með framtíð fjármála. Hann mun tala um það hvernig klasastarf hjálpar okkur að leita sannleikans í þeim efnum og hvaða sannleikur honum sýnist vera að birtast um þessar mundir. \nHver?\nGunnlaugur Jónsson\, framkvæmdastjóri Fjárklasans \nMisstir þú af fundinum?\nSkráðu þig á Dokkufundinn á hefðbundinn hátt og þú færð sendan tengil á upptöku frá fundinum.\nMikilvægt: Ef þú hefur áður skráð þig á fundinn þá þarftu að afskrá þig af fundinum – en það er einfalt – þú smellir á „Skrá mig af þessum fundi“ hér fyrir neðan skráningarformið og skráir þig svo aftur – þá færðu staðfestingarpóst með tengli á upptökuna.
URL:https://dokkan.is/fundur/fjartaekni-framtidarinnar/
LOCATION:Á vefnum
CATEGORIES:Dokkufundir - fyrir þau sem vita að framtíðin bíður ekki eftir þeim sem bíða...
ATTACH;FMTTYPE=image/jpeg:https://dokkan.is/wp-content/uploads/2020/12/0C094CE1AC3775A8C954570ACE2862E0302419831415D7628397FFE3F38589D4_713x0-1-1.jpg
END:VEVENT
END:VCALENDAR