BEGIN:VCALENDAR
VERSION:2.0
PRODID:-//Dokkan - ECPv6.15.17//NONSGML v1.0//EN
CALSCALE:GREGORIAN
METHOD:PUBLISH
X-ORIGINAL-URL:https://dokkan.is
X-WR-CALDESC:Events for Dokkan
REFRESH-INTERVAL;VALUE=DURATION:PT1H
X-Robots-Tag:noindex
X-PUBLISHED-TTL:PT1H
BEGIN:VTIMEZONE
TZID:Atlantic/Reykjavik
BEGIN:STANDARD
TZOFFSETFROM:+0000
TZOFFSETTO:+0000
TZNAME:GMT
DTSTART:20190101T000000
END:STANDARD
END:VTIMEZONE
BEGIN:VEVENT
DTSTART;TZID=Atlantic/Reykjavik:20201208T090000
DTEND;TZID=Atlantic/Reykjavik:20201208T100000
DTSTAMP:20260422T005305
CREATED:20200924T101828Z
LAST-MODIFIED:20201209T103407Z
UID:4882-1607418000-1607421600@dokkan.is
SUMMARY:Árangursrík teymi og leyni hráefnið. Sálfræðilegt öryggi innan teyma og vinnustaða.
DESCRIPTION:Verkfræðingafélag Íslands og Verkefnastjórnunarfélag Íslands bjóða Dokkunni á “samlokufund” \nMjög víða í samfélaginu er verið að vinna verkefni\, hvort sem það er innan fyrirtækja eða stofnana. Stærðargráða þeirra og flækjustig eru mismunandi en oftar en ekki eru teymi þeim að baki. Í atvinnulífinu hefur verið lögð mikil áhersla á faglega verkefnastjórnun. Gerðar eru verk-\, tíma- og kostnaðaráætlanir og besta leiðin fundin. Minni gaumur hefur verið gefinn að mannlega þætti greinarinnar\, sem felur meðal annars í sér að byggja upp traust í teymum og skapa öruggt umhverfi fyrir meðlimi þeirra til að segja hug sinn af einlægni og takast á um hugmyndir og aðferðir á uppbyggilegan hátt. \nHverjir?\nÁslaug Ármannsdóttir\nÁslaug starfar sem verkefnisstjóri heimsmarkmiða Sameinuðu þjóðanna hjá Háskóla Íslands. Hún er einnig sjálfstætt starfandi verkefnisstjóri\, markþjálfi og teymisþjálfi. Áslaug er með MPM-gráðu í verkefnastjórnun og hefur lokið BA gráðu í mannfræði. \nLaufey Guðmundsdóttir\nLaufey starfar sem verkefnisstjóri hjá Markaðsstofu Suðurlands. Að auki starfar hún sem sjálfstætt starfandi ráðgjafi\, markþjálfi og teymisþjálfi. Laufey er með MPM-gráðu í verkefnastjórnun og hefur lokið BS gráðu í viðskiptafræði. \nMisstir þú af fundinum?\nSkráðu þig á Dokkufundinn á hefðbundinn hátt og þú færð sendan tengil á upptöku frá fundinum.\nMikilvægt: Ef þú hefur áður skráð þig á fundinn þá þarftu að afskrá þig af fundinum – en það er einfalt – þú smellir á „Skrá mig af þessum fundi“ hér fyrir neðan skráningarformið og skráir þig svo aftur – þá færðu staðfestingarpóst með tengli á upptökuna.
URL:https://dokkan.is/fundur/arangursrik-teymi-og-leyni-hraefnid-salfraedilegt-oryggi-innan-teyma-og-vinnustada/
LOCATION:Á vefnum
CATEGORIES:Dokkufundir - fyrir þau sem vita að framtíðin bíður ekki eftir þeim sem bíða...
ATTACH;FMTTYPE=image/png:https://dokkan.is/wp-content/uploads/2020/09/1553638480-55887705_652539311869998_4527347742795628544_n.png
END:VEVENT
END:VCALENDAR