BEGIN:VCALENDAR
VERSION:2.0
PRODID:-//Dokkan - ECPv6.15.17//NONSGML v1.0//EN
CALSCALE:GREGORIAN
METHOD:PUBLISH
X-WR-CALNAME:Dokkan
X-ORIGINAL-URL:https://dokkan.is
X-WR-CALDESC:Events for Dokkan
REFRESH-INTERVAL;VALUE=DURATION:PT1H
X-Robots-Tag:noindex
X-PUBLISHED-TTL:PT1H
BEGIN:VTIMEZONE
TZID:Atlantic/Reykjavik
BEGIN:STANDARD
TZOFFSETFROM:+0000
TZOFFSETTO:+0000
TZNAME:GMT
DTSTART:20190101T000000
END:STANDARD
END:VTIMEZONE
BEGIN:VEVENT
DTSTART;TZID=Atlantic/Reykjavik:20201203T150000
DTEND;TZID=Atlantic/Reykjavik:20201203T154500
DTSTAMP:20260422T005308
CREATED:20201019T124111Z
LAST-MODIFIED:20201207T104320Z
UID:5071-1607007600-1607010300@dokkan.is
SUMMARY:Fjárhagsleg endurskipulagning eða hamskipti?
DESCRIPTION:Helgi Þór mun segja okkur frá reynslu minni sem tímabundinn framkvæmdastjóri byggðasamlagsins SORPU árið 2020. \nHver?\nHelgi Þór Ingason\, tímabundinn framkvæmdastjóri Sorpu og prófessor við Háskólann í Reykjavík\nMisstir þú af fundinum?\nÞví miður þá fengum við ekki leyfi til að taka Dokkufundinn upp \n 
URL:https://dokkan.is/fundur/endurreisn-fyrirtaekis-ut-fra-verkefnastjornun/
CATEGORIES:Dokkufundir - fyrir þau sem vita að framtíðin bíður ekki eftir þeim sem bíða...
ATTACH;FMTTYPE=image/jpeg:https://dokkan.is/wp-content/uploads/2020/10/image-24-11-20-04-37-1.jpeg
END:VEVENT
END:VCALENDAR