BEGIN:VCALENDAR
VERSION:2.0
PRODID:-//Dokkan - ECPv6.15.17//NONSGML v1.0//EN
CALSCALE:GREGORIAN
METHOD:PUBLISH
X-ORIGINAL-URL:https://dokkan.is
X-WR-CALDESC:Events for Dokkan
REFRESH-INTERVAL;VALUE=DURATION:PT1H
X-Robots-Tag:noindex
X-PUBLISHED-TTL:PT1H
BEGIN:VTIMEZONE
TZID:Atlantic/Reykjavik
BEGIN:STANDARD
TZOFFSETFROM:+0000
TZOFFSETTO:+0000
TZNAME:GMT
DTSTART:20190101T000000
END:STANDARD
END:VTIMEZONE
BEGIN:VEVENT
DTSTART;TZID=Atlantic/Reykjavik:20201111T090000
DTEND;TZID=Atlantic/Reykjavik:20201111T094500
DTSTAMP:20260422T023829
CREATED:20200314T142532Z
LAST-MODIFIED:20201112T114853Z
UID:230-1605085200-1605087900@dokkan.is
SUMMARY:Hvaða máli skiptir skjalastjórn fyrir innleiðingu jafnlaunastaðals? Um samspil staðla og hlutverk skjalastjórnar í tengslum við jafnlaunastaðalinn
DESCRIPTION:Fjöldi fyrirtækja og stofnana standa frammi fyrir innleiðingu jafnlaunastaðals 85/2012 um þessar mundir. Í mörgum tilfellum er lítil eða engin reynsla af innleiðingu gæðastaðals fyrir hendi á meðan kröfur jafnlaunastaðalsins til kerfisbundinnar skráningar eru umtalsverðar. Í staðlinum er m.a. gerð krafa um skráningu á þekkingu og hæfni starfsfólks auk þess sem öll gæðaskjöl og skrár er varða innleiðingu\, jafnlaunakerfið sjálft og ákvarðanir stjórnenda varðandi launasetningu skulu skráðar ásamt fjölda annarra skráa. Upplýsingar um þekkingu starfsfólks eiga samkvæmt staðlinum að fela í sér leitarbæra skráningu menntunar\, þjálfunar og reynslu starfsfólks. Í þessu erindi er fjallað um þær áskoranir sem innleiðing jafnlaunastaðals hefur í för með sér og reynt að tengja efnið sem best við raunverulega reynslu og dæmi svo það nýtist beint í starfi. \nHver?\nRagna Kemp\, lektor í upplýsingafræði við Háskóla Íslands\nMisstir þú af fundinum?\nSkráðu þig á Dokkufundinn á hefðbundinn hátt og þú færð sendan tengil á upptöku frá fundinum.\nMikilvægt: Ef þú hefur áður skráð þig á fundinn þá þarftu að afskrá þig af fundinum – en það er einfalt – þú smellir á „Skrá mig af þessum fundi“ hér fyrir neðan skráningarformið og skráir þig svo aftur – þá færðu staðfestingarpóst með tengli á upptökuna.
URL:https://dokkan.is/fundur/hvada-mali-skiptir-skjalastjorn-fyrir-innleidingu-jafnlaunastadals/
LOCATION:Nýsköpunarmiðstöð Íslands\, Árleyni 8\, Reykjavík\, 112\, Iceland
CATEGORIES:Dokkufundir - fyrir þau sem vita að framtíðin bíður ekki eftir þeim sem bíða...
ATTACH;FMTTYPE=image/jpeg:https://dokkan.is/wp-content/uploads/2020/03/KRI_ragna_kemp_190502_ferningur_smamynd.jpg
END:VEVENT
END:VCALENDAR