BEGIN:VCALENDAR
VERSION:2.0
PRODID:-//Dokkan - ECPv6.15.17//NONSGML v1.0//EN
CALSCALE:GREGORIAN
METHOD:PUBLISH
X-ORIGINAL-URL:https://dokkan.is
X-WR-CALDESC:Events for Dokkan
REFRESH-INTERVAL;VALUE=DURATION:PT1H
X-Robots-Tag:noindex
X-PUBLISHED-TTL:PT1H
BEGIN:VTIMEZONE
TZID:Atlantic/Reykjavik
BEGIN:STANDARD
TZOFFSETFROM:+0000
TZOFFSETTO:+0000
TZNAME:GMT
DTSTART:20190101T000000
END:STANDARD
END:VTIMEZONE
BEGIN:VEVENT
DTSTART;TZID=Atlantic/Reykjavik:20201103T083000
DTEND;TZID=Atlantic/Reykjavik:20201103T091500
DTSTAMP:20260422T023303
CREATED:20200928T092828Z
LAST-MODIFIED:20201104T080229Z
UID:4891-1604392200-1604394900@dokkan.is
SUMMARY:Umbótaleiðtogar Samskipa
DESCRIPTION:Á Dokkufundinum verður farið stuttlega yfir hvernig Samskip hafa nýtt sér stöðugar umbætur til að ná meiri árangri en aðal áherslan verður á þjálfunarprógram sem verið er að keyra innan fyrirtækisins: „Umbótaleiðtogar Samskipa“.\n\n\n\n\n\n\n\n\n\n\n\n\n\n\n\n\n\n\n\n\n\n\n\n\n\n\nHver?\n\n\n\n\nAðalheiður María Vigfúsdóttir\, sérfræðingur í umbótum í rekstri\nAðalheiður er hugmyndarík og metnaðargjörn keppnismanneskja með ástríðu fyrir nýsköpun\, stafrænni þróun og stöðugum umbótum og þá sérstaklega hvernig mismunandi stefnur og stjórnendastílar hafa áhrif á þessa þætti. Aðalheiður María starfar nú sem sérfræðingur í umbótum í rekstri hjá Samskipum en starfaði áður sem framleiðslustjóri hjá Marel og ferilseigandi hjá Össur. Í störfum sínum hefur hún komið sér upp þeim góða ávana að vera sífellt að greina núverandi stöðu og leita uppi tækifæri til að gera betur en hennar helsti styrkileiki er hæfni hennar til að vekja áhuga annarra á stöðugum umbótum og að deila af reynslu sinni.\n\n\n\n\n\n\n\n\n\n\n\n\n\n\n\n\n\n\n\n\n\nMisstir þú af fundinum?\nSkráðu þig á Dokkufundinn á hefðbundinn hátt og þú færð sendan tengil á upptöku frá fundinum.\nMikilvægt: Ef þú hefur áður skráð þig á fundinn þá þarftu að afskrá þig af fundinum – en það er einfalt – þú smellir á „Skrá mig af þessum fundi“ hér fyrir neðan skráningarformið og skráir þig svo aftur – þá færðu staðfestingarpóst með tengli á upptökuna.
URL:https://dokkan.is/fundur/lean-2/
CATEGORIES:Dokkufundir - fyrir þau sem vita að framtíðin bíður ekki eftir þeim sem bíða...
ATTACH;FMTTYPE=image/jpeg:https://dokkan.is/wp-content/uploads/2020/09/121175170_385368736181591_5690490937602499442_n.jpg
END:VEVENT
END:VCALENDAR