BEGIN:VCALENDAR
VERSION:2.0
PRODID:-//Dokkan - ECPv6.15.17//NONSGML v1.0//EN
CALSCALE:GREGORIAN
METHOD:PUBLISH
X-WR-CALNAME:Dokkan
X-ORIGINAL-URL:https://dokkan.is
X-WR-CALDESC:Events for Dokkan
REFRESH-INTERVAL;VALUE=DURATION:PT1H
X-Robots-Tag:noindex
X-PUBLISHED-TTL:PT1H
BEGIN:VTIMEZONE
TZID:Atlantic/Reykjavik
BEGIN:STANDARD
TZOFFSETFROM:+0000
TZOFFSETTO:+0000
TZNAME:GMT
DTSTART:20190101T000000
END:STANDARD
END:VTIMEZONE
BEGIN:VEVENT
DTSTART;TZID=Atlantic/Reykjavik:20201029T083000
DTEND;TZID=Atlantic/Reykjavik:20201029T091500
DTSTAMP:20260422T023824
CREATED:20200930T074807Z
LAST-MODIFIED:20201029T185832Z
UID:4899-1603960200-1603962900@dokkan.is
SUMMARY:Velferðarþjónusta Samkaupa - afrakstur skýrrar mannauðsstefnu?
DESCRIPTION:Á Dokkufundinum verður fjallað um vegferð Samkaupa í áttina að því að verða einn eftirsóknarverðasti vinnustaður landsins. Stærsta skrefið í þá átt var stigið með tilkomu mannauðssviðs sem stofnað var árið 2018. \nÁ fundinum verður fjallað um hvaða breytingar hafa verið gerðar á siðastliðnum tveimur árum og hvernig félagið hefur innleitt og framkvæmt skýra stefnu í mannauðsmálum. Einnig verður sagt frá því hvernig sérstök áhersla hefur verið lögð á að styrkja framlínu fyrirtækisins og þeim aðgerðarpakka sem settur var í loftið á vormánuðum í miðjum Covid faraldri ásamt fjölbreyttri velferðarþjónustu sem fyrirtækið býður starfsmönnum sínum í dag. \nHver?\nGunnur Líf Gunnarsdóttir\, framkvæmdastjóri mannauðssviðs Samkaup \nMisstir þú af fundinum?\nSkráðu þig á Dokkufundinn á hefðbundinn hátt og þú færð sendan tengil á upptöku frá fundinum.\nMikilvægt: Ef þú hefur áður skráð þig á fundinn þá þarftu að afskrá þig af fundinum – en það er einfalt – þú smellir á „Skrá mig af þessum fundi“ hér fyrir neðan skráningarformið og skráir þig svo aftur – þá færðu staðfestingarpóst með tengli á upptökuna.
URL:https://dokkan.is/fundur/velferdarthjonusta-samkaupa-thad-sem-koma-skal/
CATEGORIES:Dokkufundir - fyrir þau sem vita að framtíðin bíður ekki eftir þeim sem bíða...
ATTACH;FMTTYPE=image/jpeg:https://dokkan.is/wp-content/uploads/2020/09/2019_samkaup-61-1.jpg
END:VEVENT
END:VCALENDAR