BEGIN:VCALENDAR
VERSION:2.0
PRODID:-//Dokkan - ECPv6.15.17//NONSGML v1.0//EN
CALSCALE:GREGORIAN
METHOD:PUBLISH
X-WR-CALNAME:Dokkan
X-ORIGINAL-URL:https://dokkan.is
X-WR-CALDESC:Events for Dokkan
REFRESH-INTERVAL;VALUE=DURATION:PT1H
X-Robots-Tag:noindex
X-PUBLISHED-TTL:PT1H
BEGIN:VTIMEZONE
TZID:Atlantic/Reykjavik
BEGIN:STANDARD
TZOFFSETFROM:+0000
TZOFFSETTO:+0000
TZNAME:GMT
DTSTART:20190101T000000
END:STANDARD
END:VTIMEZONE
BEGIN:VEVENT
DTSTART;TZID=Atlantic/Reykjavik:20201028T083000
DTEND;TZID=Atlantic/Reykjavik:20201028T093000
DTSTAMP:20260422T023832
CREATED:20200311T150140Z
LAST-MODIFIED:20201029T185617Z
UID:83-1603873800-1603877400@dokkan.is
SUMMARY:Lífeyrismálin okkar allra - hvað er gott að vita?
DESCRIPTION:Fyrir tæpum tveimur árum síðan vorum við með Dokkufund um lífeyrismálin okkar allra og vegna fjölda áskorana ætlum við að halda sambærilega fund núna. Við tökum sem sagt púlsinn á lífeyrismálunum. Hvernig virkar lífeyrissjóðakerfið okkar\, hvað getum við gert núna til að hafa einhver áhrif á réttindi okkar í framtíðinni? \nNokkrar spurningar sem við leitum svara við: \n\nHvað þarft þú að vita til að fá yfirsýn yfir þín réttindi?\nGetum við haft einhver áhrif á lífeyrisréttindin?\nHvað getur þú gert núna til að tryggja þín réttindin?\n\nHver?\nÞórey S. Þórðardóttir\, framkvæmdastjóri Landssamtaka lífeyrissjóða\nSólveig Hjaltadóttir \, fræðslustjóri Landssamtaka lífeyrissjóða \nMisstir þú af fundinum?\nSkráðu þig á Dokkufundinn á hefðbundinn hátt og þú færð sendan tengil á upptöku frá fundinum.\nMikilvægt: Ef þú hefur áður skráð þig á fundinn þá þarftu að afskrá þig af fundinum – en það er einfalt – þú smellir á „Skrá mig af þessum fundi“ hér fyrir neðan skráningarformið og skráir þig svo aftur – þá færðu staðfestingarpóst með tengli á upptökuna.
URL:https://dokkan.is/fundur/lifeyrismalin-okkar-allra-hvad-er-gott-ad-vita/
LOCATION:Á vefnum
CATEGORIES:Dokkufundir - fyrir þau sem vita að framtíðin bíður ekki eftir þeim sem bíða...
ATTACH;FMTTYPE=image/jpeg:https://dokkan.is/wp-content/uploads/2020/03/8c248336698006d88a6f1a9045a103ca-1-1.jpg
END:VEVENT
END:VCALENDAR