BEGIN:VCALENDAR
VERSION:2.0
PRODID:-//Dokkan - ECPv6.15.17//NONSGML v1.0//EN
CALSCALE:GREGORIAN
METHOD:PUBLISH
X-ORIGINAL-URL:https://dokkan.is
X-WR-CALDESC:Events for Dokkan
REFRESH-INTERVAL;VALUE=DURATION:PT1H
X-Robots-Tag:noindex
X-PUBLISHED-TTL:PT1H
BEGIN:VTIMEZONE
TZID:Atlantic/Reykjavik
BEGIN:STANDARD
TZOFFSETFROM:+0000
TZOFFSETTO:+0000
TZNAME:GMT
DTSTART:20190101T000000
END:STANDARD
END:VTIMEZONE
BEGIN:VEVENT
DTSTART;TZID=Atlantic/Reykjavik:20201023T083000
DTEND;TZID=Atlantic/Reykjavik:20201023T091500
DTSTAMP:20260422T041224
CREATED:20200918T124152Z
LAST-MODIFIED:20201028T135335Z
UID:4864-1603441800-1603444500@dokkan.is
SUMMARY:Hannaðu líf þitt í vinnunni
DESCRIPTION:Á þessum Dokkufundi munt þú: \n\n\nFá nasaþefinn af því hvernig þú getur hannað líf þitt í vinnunni \n\n\nLæra aðferðir sem þú getur nýtt þér samdægurs til að hafa það skemmtilegra í vinnunni \n\n\nFyrir hvern?\n\nÞig ef þér finnst ekki nógu gaman í vinnunni en ætlar samt ekki að skipta um starf.\nÞig ef þú ert stjórnandi og grunar að það sé við það að slökkna á sumum starfsmanna þinna og þú vilt fá hugmyndir um hvernig hægt er að blása í glæðurnar.\nÞig ef þér finnst dauft yfir einhverjum þér nákomnum og grunar að að ástæðan sé vinnuleiði.\n\nHver?\nRagnhildur Vigfúsdóttir\, Certified Desiging Your Live Coach og PCC vottaður markþjálfi frá International Coaching Federation. \nSkilaboð frá Ragnhildi: \n“Ég hef verið í nokkrum draumastörfum\, en ég hef líka verið í vinnu þar sem tíminn var mjög lengi að líða. Sem markþjálfi vinn ég oft með fólki sem leiðist í vinnunni. Sumir vilja blása í glæðurnar\, aðrir vilja brenna brúna jafnvel þó það sé ekki önnur vinna í augsýn – og nokkrir ákveða að þrauka og þreyja þangað til þeir fara á eftirlaun. Það finnst mér satt að segja versti kosturinn – bæði fyrir einstaklinginn og fyrirtækið. Vinnan getur nefnilega verið mesti gleðigjafinn og því mikið í húfi að endurheimta gleðina. Rannsóknir sýna að starfsánægja tengist afköstum og því er mikið í húfi fyrir fyrirtæki”. \nMisstir þú af fundinum?\nSkráðu þig á Dokkufundinn á hefðbundinn hátt og þú færð sendan tengil á upptöku frá fundinum.\nMikilvægt: Ef þú hefur áður skráð þig á fundinn þá þarftu að afskrá þig af fundinum – en það er einfalt – þú smellir á „Skrá mig af þessum fundi“ hér fyrir neðan skráningarformið og skráir þig svo aftur – þá færðu staðfestingarpóst með tengli á upptökuna.
URL:https://dokkan.is/fundur/hannadu-lif-thitt-i-vinnunni/
CATEGORIES:Dokkufundir - fyrir þau sem vita að framtíðin bíður ekki eftir þeim sem bíða...
ATTACH;FMTTYPE=image/jpeg:https://dokkan.is/wp-content/uploads/2020/09/RV_Esjan-1-scaled.jpg
END:VEVENT
END:VCALENDAR