BEGIN:VCALENDAR
VERSION:2.0
PRODID:-//Dokkan - ECPv6.15.17//NONSGML v1.0//EN
CALSCALE:GREGORIAN
METHOD:PUBLISH
X-ORIGINAL-URL:https://dokkan.is
X-WR-CALDESC:Events for Dokkan
REFRESH-INTERVAL;VALUE=DURATION:PT1H
X-Robots-Tag:noindex
X-PUBLISHED-TTL:PT1H
BEGIN:VTIMEZONE
TZID:Atlantic/Reykjavik
BEGIN:STANDARD
TZOFFSETFROM:+0000
TZOFFSETTO:+0000
TZNAME:GMT
DTSTART:20190101T000000
END:STANDARD
END:VTIMEZONE
BEGIN:VEVENT
DTSTART;TZID=Atlantic/Reykjavik:20201001T083000
DTEND;TZID=Atlantic/Reykjavik:20201001T093000
DTSTAMP:20260422T041225
CREATED:20200902T145935Z
LAST-MODIFIED:20201001T093726Z
UID:4766-1601541000-1601544600@dokkan.is
SUMMARY:Ekki láta gögnin hræða þig
DESCRIPTION:Vinna með tölur og gögn er löngu orðin nauðsynleg lykilhæfni í atvinnulífinu\, en oft er erfitt að vita hvar á að byrja og mörg þeirra verkfæra sem eru í boði eru ekki sérlega aðgengileg. Í þessum fyrirlestri munum við fara yfir það hvað felst í gagnadrifinni ákvarðanatöku og gagnadrifnum rekstri og hvernig hinn “venjulegi skrifstofumaður” getur með réttri aðferðafræði og einföldum tólum á borð við töflureikna tekist á við verkefni sem upp koma í daglegum rekstri  á eigin spýtur og lært að miðla gögnum með áhrifaríkum hætti. \nHver verður með okkur?\nHjalmar Gislason\, founder & CEO hjá GRID – the new face of spreadsheets\nMisstir þú af fundinum?\nSkráðu þig á Dokkufundinn á hefðbundinn hátt og þú færð sendan tengil á upptöku frá fundinum. \nMikilvægt: Ef þú hefur áður skráð þig á fundinn þá þarftu að afskrá þig af fundinum – en það er einfalt – þú smellir á „Skrá mig af þessum fundi“ hér fyrir neðan skráningarformið og skráir þig svo aftur – þá færðu staðfestingarpóst með tengli á upptökuna.
URL:https://dokkan.is/fundur/gagnadrifinn-rekstur-og-akvardanataka/
CATEGORIES:Dokkufundir - fyrir þau sem vita að framtíðin bíður ekki eftir þeim sem bíða...
ATTACH;FMTTYPE=image/jpeg:https://dokkan.is/wp-content/uploads/2020/09/Hjálmar.jpg
END:VEVENT
END:VCALENDAR