BEGIN:VCALENDAR
VERSION:2.0
PRODID:-//Dokkan - ECPv6.15.17//NONSGML v1.0//EN
CALSCALE:GREGORIAN
METHOD:PUBLISH
X-ORIGINAL-URL:https://dokkan.is
X-WR-CALDESC:Events for Dokkan
REFRESH-INTERVAL;VALUE=DURATION:PT1H
X-Robots-Tag:noindex
X-PUBLISHED-TTL:PT1H
BEGIN:VTIMEZONE
TZID:Atlantic/Reykjavik
BEGIN:STANDARD
TZOFFSETFROM:+0000
TZOFFSETTO:+0000
TZNAME:GMT
DTSTART:20190101T000000
END:STANDARD
END:VTIMEZONE
BEGIN:VEVENT
DTSTART;TZID=Atlantic/Reykjavik:20200430T083000
DTEND;TZID=Atlantic/Reykjavik:20200430T093000
DTSTAMP:20260422T122557
CREATED:20200420T100337Z
LAST-MODIFIED:20201026T112620Z
UID:1537-1588235400-1588239000@dokkan.is
SUMMARY:Efst á baugi með Herdísi Pálu
DESCRIPTION:Efst á baugi með Herdísi Pálu\nVið fengum hana Herdísi Pálu til að taka saman fyrir okkur og fjalla um athyglisverðar bækur\, greinar\, vefsíður og fl. sem geta hjálpað okkur í sí- og endurmenntunarferlinu og verið okkur hvatning á öllum tímum.\nEinnig deildi Herdís með okkur sinni sýn á hvernig Covid – 19 muni breyta hlutverki stjórnenda og þeirra sem eru í forystu fyrir verkefnum og einingum innan fyrirtækisins.\n\nHver er með okkur?\nHerdís Pála Pálsdóttir\, framkvæmdastjóri hjá Deloitte\n\nHvar?\nÁ vefnum auðvitað .💛\nSkráðu þig á Dokkufundinn og þú færð sendan tengil til að horfa á upptöku frá fundinum.\n\nMikilvægt: Ef þú hefur áður skráð þig á fundinn þá þarftu að afskrá þig af fundinum – en það er einfalt – smellir á “Afskrá mig af þessum fundi” hér fyrir neðan skráningarformið.
URL:https://dokkan.is/fundur/efst-a-baugi-med-herdisi-palu/
CATEGORIES:Dokkufundir - fyrir þau sem vita að framtíðin bíður ekki eftir þeim sem bíða...
ATTACH;FMTTYPE=image/jpeg:https://dokkan.is/wp-content/uploads/2020/04/1166620-1.jpg
END:VEVENT
END:VCALENDAR