BEGIN:VCALENDAR
VERSION:2.0
PRODID:-//Dokkan - ECPv6.15.17//NONSGML v1.0//EN
CALSCALE:GREGORIAN
METHOD:PUBLISH
X-WR-CALNAME:Dokkan
X-ORIGINAL-URL:https://dokkan.is
X-WR-CALDESC:Events for Dokkan
REFRESH-INTERVAL;VALUE=DURATION:PT1H
X-Robots-Tag:noindex
X-PUBLISHED-TTL:PT1H
BEGIN:VTIMEZONE
TZID:Atlantic/Reykjavik
BEGIN:STANDARD
TZOFFSETFROM:+0000
TZOFFSETTO:+0000
TZNAME:GMT
DTSTART:20190101T000000
END:STANDARD
END:VTIMEZONE
BEGIN:VEVENT
DTSTART;TZID=Atlantic/Reykjavik:20200422T083000
DTEND;TZID=Atlantic/Reykjavik:20200422T093000
DTSTAMP:20260422T140102
CREATED:20200414T181812Z
LAST-MODIFIED:20201007T130510Z
UID:1528-1587544200-1587547800@dokkan.is
SUMMARY:Þrautseigja og húmor á krefjandi tímum með Önnu Steinsen
DESCRIPTION:Við erum að upplifa fordæmalausa tíma og það krefur okkur um að bregðast við mjög skrítnum aðstæðum sem kalla fram allskonar tilfinningar í margvíslegum búningum. \nMikið hefur verið talað um að missa ekki sjónar á gleðinni en á sama tíma eru aðstæðurnar grafalvarlegar – er það hægt? \n\nHvernig getum við haldið í gleðina og þrautseigjuna á krefjandi tímum?\nHver er húmorinn í þessu ástandi?\nHverju getum við hlegið að?\nHvaða nýja reynslu erum við að upplifa?\nHvernig gengur okkur að fást við vinnuna heima og daglega lífið á tímum Covid?\nHver er betri en Anna Steinsen til að stappa í okkur stálinu og úthaldinu og minna okkur á gleðina?\n\nHver er með okkur?\nAnna Steinsen hjá Kvan \nHvar?\nSkráðu þig á Dokkufundinn og þú færð sendan tengil til að horfa á upptöku frá fundinum. \nMikilvægt: Ef þú hefur áður skráð þig á fundinn þá þarftu að afskrá þig af fundinum – en það er einfalt – smellir á “Afskrá mig af þessum fundi” hér fyrir neðan skráningarformið.
URL:https://dokkan.is/fundur/thrautseigja-og-gledi-a-krefjandi-timum-med-onnu-steinsen/
CATEGORIES:Dokkufundir - fyrir þau sem vita að framtíðin bíður ekki eftir þeim sem bíða...
ATTACH;FMTTYPE=image/jpeg:https://dokkan.is/wp-content/uploads/2020/04/1091750-1.jpg
END:VEVENT
END:VCALENDAR