BEGIN:VCALENDAR
VERSION:2.0
PRODID:-//Dokkan - ECPv6.15.17//NONSGML v1.0//EN
CALSCALE:GREGORIAN
METHOD:PUBLISH
X-WR-CALNAME:Dokkan
X-ORIGINAL-URL:https://dokkan.is
X-WR-CALDESC:Events for Dokkan
REFRESH-INTERVAL;VALUE=DURATION:PT1H
X-Robots-Tag:noindex
X-PUBLISHED-TTL:PT1H
BEGIN:VTIMEZONE
TZID:Atlantic/Reykjavik
BEGIN:STANDARD
TZOFFSETFROM:+0000
TZOFFSETTO:+0000
TZNAME:GMT
DTSTART:20190101T000000
END:STANDARD
END:VTIMEZONE
BEGIN:VEVENT
DTSTART;TZID=Atlantic/Reykjavik:20200416T083000
DTEND;TZID=Atlantic/Reykjavik:20200416T093000
DTSTAMP:20260422T140102
CREATED:20200411T134903Z
LAST-MODIFIED:20201026T112431Z
UID:1517-1587025800-1587029400@dokkan.is
SUMMARY:Markþjálfun fyrir þig
DESCRIPTION:Hvað  er markþjálfun – hvernig má lýsa þessu fagi sem rutt hefur sér til rúms á Íslandi á undanförnum árum? \nMarkþjálfun má lýsa á þennan hátt: \nMarkþjálfun er hnitmiðuð þjálfun fyrir fólk sem sækist eftir því að ná einhverju ákveðnu markmiði. Bæði einstaklingar og fyrirtæki geta nýtt sér markþjálfun. Þessi gerð af þjálfun inniheldur regluleg viðtöl og getur kallað á endurröðun viðhorfs\, gilda\, og hegðunar hjá þeim sem þjálfunin beinist að. Þjálfunin getur t.d. snúist um að byggja upp betri samstarfshópa innan fyrirtækja\, um að ná persónulegum markmiðum\, eða um að byggja upp heilbrigðari lífstíl. (Wikipedía) \nÁ Dokkufundinum\, sem fór fram á vefnum\, hjálpaði Gestur Pálmason ykkur að staðsetja ykkur í núverandi aðstæðum með aðstoð þroskahjólsins\, koma með nokkrar góðar og áhrifaríkar spurningar til ykkar eins og góðum markþjálfa er einum lagið og velta upp hvert þær geta farið með okkur – eða gert fyrir okkur. \nGestur Pálmason\, markþjálfi hjá Complete\nHvar?\nSkráðu þig á Dokkufundinn og þú færð sendan tengil til að horfa á upptöku frá fundinum. \nMikilvægt: Ef þú hefur áður skráð þig á fundinn þá þarftu að afskrá þig af fundinum – en það er einfalt – smellir á “Afskrá mig af þessum fundi” hér fyrir neðan skráningarformið.
URL:https://dokkan.is/fundur/markthjalfun-fyrir-thig/
CATEGORIES:Dokkufundir - fyrir þau sem vita að framtíðin bíður ekki eftir þeim sem bíða...
ATTACH;FMTTYPE=image/jpeg:https://dokkan.is/wp-content/uploads/2020/04/Gestur_mynd-minni.jpg
END:VEVENT
END:VCALENDAR