BEGIN:VCALENDAR
VERSION:2.0
PRODID:-//Dokkan - ECPv6.15.17//NONSGML v1.0//EN
CALSCALE:GREGORIAN
METHOD:PUBLISH
X-ORIGINAL-URL:https://dokkan.is
X-WR-CALDESC:Events for Dokkan
REFRESH-INTERVAL;VALUE=DURATION:PT1H
X-Robots-Tag:noindex
X-PUBLISHED-TTL:PT1H
BEGIN:VTIMEZONE
TZID:Atlantic/Reykjavik
BEGIN:STANDARD
TZOFFSETFROM:+0000
TZOFFSETTO:+0000
TZNAME:GMT
DTSTART:20190101T000000
END:STANDARD
END:VTIMEZONE
BEGIN:VEVENT
DTSTART;TZID=Atlantic/Reykjavik:20200324T090000
DTEND;TZID=Atlantic/Reykjavik:20200324T100000
DTSTAMP:20260422T154443
CREATED:20200318T092825Z
LAST-MODIFIED:20200318T135055Z
UID:1167-1585040400-1585044000@dokkan.is
SUMMARY:Stýring í ólgusjó
DESCRIPTION:Stýring í ólgusjó – Veffundur um mikilvægi tafarlausra aðgerða til að takmarka neikvæð áhrif COVID-19 á rekstur\nKPMG og Dokkan taka saman höndum og bjóða til veffundar þriðjudaginn 24. mars frá kl. 9:00-10:00. \nÓvæntar utanaðkomandi aðstæður geta leitt til mikillar óvissu. Þá er mikilvægt að ná tökum á stöðunni og gera viðeigandi ráðstafanir til þess að marka stefnu í gegnum áskoranirnar fram undan. \nÞegar tekjur dragast skyndilega saman\, fjárstreymi þornar upp og erfitt er að gera áreiðanlegar áætlanir er mikilvægt að ná tökum á stöðunni fljótt. Þá þarf að gera viðeigandi ráðstafanir og eiga skipulögð samskipti við alla sem hafa hagsmuna að gæta í því að reksturinn verði varinn. \nÁ fundinum fjalla ráðgjafar KPMG um hagnýt atriði er varða stýringu á rekstri í ólgusjó. Áhersla verður lögð á þætti er snúa að lausafé\, sjóðstreymi\, kostnaði og mikilvægum þáttum í ferlinu við að ná árangri. \nSkráðu þig á hefðbundinn hátt á fundinn og þú færð svo sendan tengill til að horfa á fundinn
URL:https://dokkan.is/fundur/veffundur-kpmg-og-dokkunnar/
CATEGORIES:Dokkufundir - fyrir þau sem vita að framtíðin bíður ekki eftir þeim sem bíða...
ATTACH;FMTTYPE=image/jpeg:https://dokkan.is/wp-content/uploads/2020/03/KPMG-Dokkan.jpg
END:VEVENT
END:VCALENDAR