BEGIN:VCALENDAR
VERSION:2.0
PRODID:-//Dokkan - ECPv6.15.17//NONSGML v1.0//EN
CALSCALE:GREGORIAN
METHOD:PUBLISH
X-ORIGINAL-URL:https://dokkan.is
X-WR-CALDESC:Events for Dokkan
REFRESH-INTERVAL;VALUE=DURATION:PT1H
X-Robots-Tag:noindex
X-PUBLISHED-TTL:PT1H
BEGIN:VTIMEZONE
TZID:Atlantic/Reykjavik
BEGIN:STANDARD
TZOFFSETFROM:+0000
TZOFFSETTO:+0000
TZNAME:GMT
DTSTART:20190101T000000
END:STANDARD
END:VTIMEZONE
BEGIN:VEVENT
DTSTART;TZID=Atlantic/Reykjavik:20200117T100000
DTEND;TZID=Atlantic/Reykjavik:20200117T110000
DTSTAMP:20260422T190251
CREATED:20200815T123228Z
LAST-MODIFIED:20200815T175248Z
UID:3293-1579255200-1579258800@dokkan.is
SUMMARY:BEZTA NÁMSKEIÐ: Bókhald: Tól og tæki - nýtum upplýsingakerfin betur
DESCRIPTION:EKKI er hægt að skrá sig á námskeiðið á þessari síðu.Smelltu hér til að skrá þig á námskeiðið
URL:https://dokkan.is/fundur/bezta-namskeid-bokhald-tol-og-taeki-nytum-upplysingakerfin-betur/
LOCATION:Dokkan\, Iceland
CATEGORIES:BEZTA námskeið,Dokkufundir - fyrir þau sem vita að framtíðin bíður ekki eftir þeim sem bíða...
END:VEVENT
END:VCALENDAR