BEGIN:VCALENDAR
VERSION:2.0
PRODID:-//Dokkan - ECPv6.15.17//NONSGML v1.0//EN
CALSCALE:GREGORIAN
METHOD:PUBLISH
X-WR-CALNAME:Dokkan
X-ORIGINAL-URL:https://dokkan.is
X-WR-CALDESC:Events for Dokkan
REFRESH-INTERVAL;VALUE=DURATION:PT1H
X-Robots-Tag:noindex
X-PUBLISHED-TTL:PT1H
BEGIN:VTIMEZONE
TZID:Atlantic/Reykjavik
BEGIN:STANDARD
TZOFFSETFROM:+0000
TZOFFSETTO:+0000
TZNAME:GMT
DTSTART:20190101T000000
END:STANDARD
END:VTIMEZONE
BEGIN:VEVENT
DTSTART;TZID=Atlantic/Reykjavik:20200114T100000
DTEND;TZID=Atlantic/Reykjavik:20200114T110000
DTSTAMP:20260422T190253
CREATED:20200815T123228Z
LAST-MODIFIED:20200815T175252Z
UID:3294-1578996000-1578999600@dokkan.is
SUMMARY:DOKKUFUNDUR: Lífeyrismálin okkar allra
DESCRIPTION:Þessum Dokkufundi hefur verið frestað um óákveðin tíma vegna varúðarráðstafanna gegn COVID – 19. Við finnum nýja dagss. þegar betur horfir með framvindu þessa vágestar.Fyrir rúmu ári síðan vorum við með Dokkufund um lífeyrismálin okkar allra og vegna fjölda áskorana ætlum við að halda sambærilega fund núna.Við tökum sem sagt púlsinn á lífeyrismálunum. Hvernig virkar lífeyrissjóðakerfið okkar\, hvað getum við gert núna til að
URL:https://dokkan.is/fundur/dokkufundur-lifeyrismalin-okkar-allra/
LOCATION:Dokkan\, Iceland
CATEGORIES:Dokkufundir - fyrir þau sem vita að framtíðin bíður ekki eftir þeim sem bíða...
END:VEVENT
BEGIN:VEVENT
DTSTART;TZID=Atlantic/Reykjavik:20200114T100000
DTEND;TZID=Atlantic/Reykjavik:20200114T110000
DTSTAMP:20260422T190253
CREATED:20200815T123229Z
LAST-MODIFIED:20200815T175250Z
UID:3295-1578996000-1578999600@dokkan.is
SUMMARY:DOKKUFUNDUR: Lean fyrir heimilið - Lean gegn streitu
DESCRIPTION:Hvernig væri að í staðinn fyrir að hugsa hvenær fyrirtækið þitt innleiðir Lean að byrja að velta því fyrir þér hvenær þú ætlar að innleiða Lean á heimilinu?Á Dokkufundinum verður sýnt frammá hvernig hægt er að einfalda og stytta heimilisstörfin með aðferðum Lean – tekin verða fjöldi dæma um umbætur á heimilinu og hvernig best er að byrja þegar farið er í Lean vegferðina heima við.Þau Margrét og Guðmundur hafa bæði unnið markvisst með lean á sínum heimilum og þar hefur þeim
URL:https://dokkan.is/fundur/dokkufundur-lean-fyrir-heimilid-lean-gegn-streitu/
LOCATION:Dokkan\, Iceland
CATEGORIES:Dokkufundir - fyrir þau sem vita að framtíðin bíður ekki eftir þeim sem bíða...
END:VEVENT
END:VCALENDAR