BEGIN:VCALENDAR
VERSION:2.0
PRODID:-//Dokkan - ECPv6.15.17//NONSGML v1.0//EN
CALSCALE:GREGORIAN
METHOD:PUBLISH
X-ORIGINAL-URL:https://dokkan.is
X-WR-CALDESC:Events for Dokkan
REFRESH-INTERVAL;VALUE=DURATION:PT1H
X-Robots-Tag:noindex
X-PUBLISHED-TTL:PT1H
BEGIN:VTIMEZONE
TZID:Atlantic/Reykjavik
BEGIN:STANDARD
TZOFFSETFROM:+0000
TZOFFSETTO:+0000
TZNAME:GMT
DTSTART:20190101T000000
END:STANDARD
END:VTIMEZONE
BEGIN:VEVENT
DTSTART;TZID=Atlantic/Reykjavik:20200107T100000
DTEND;TZID=Atlantic/Reykjavik:20200107T110000
DTSTAMP:20260422T190250
CREATED:20200815T123229Z
LAST-MODIFIED:20200815T175303Z
UID:3297-1578391200-1578394800@dokkan.is
SUMMARY:DOKKUFUNDUR: Rannsókn: Samskipti án orða. Tengsl óyrtrar hegðunar yfirmanns og tilfinningalegrar líðan starfsfólks
DESCRIPTION:Skiptir hegðun yfirmanna í samskiptum máli?Í nýjasta hefti tímarits um viðskipti og efnahagsmál birtist greinin „samskipti án orða. Tengsl óyrtrar hegðunar yfirmanns og tilfinningalegrar líðan starfsfólks .Hildur Vilhelmsdóttir annar höfundur greinarinnar segir okkur frá rannsókninni sem byggir á meistararitgerð hennar og gefur góð ráð um óyrt samskipti á vinnustöðum sem auka líkur á farsælu sambandi milli yfirmanna og starfsmanna.Hver verður með okkur?Hildur
URL:https://dokkan.is/fundur/dokkufundur-rannsokn-samskipti-an-orda-tengsl-oyrtrar-hegdunar-yfirmanns-og-tilfinningalegrar-lidan-starfsfolks/
LOCATION:Dokkan\, Iceland
CATEGORIES:Dokkufundir - fyrir þau sem vita að framtíðin bíður ekki eftir þeim sem bíða...
END:VEVENT
END:VCALENDAR