BEGIN:VCALENDAR
VERSION:2.0
PRODID:-//Dokkan - ECPv6.15.17//NONSGML v1.0//EN
CALSCALE:GREGORIAN
METHOD:PUBLISH
X-WR-CALNAME:Dokkan
X-ORIGINAL-URL:https://dokkan.is
X-WR-CALDESC:Events for Dokkan
REFRESH-INTERVAL;VALUE=DURATION:PT1H
X-Robots-Tag:noindex
X-PUBLISHED-TTL:PT1H
BEGIN:VTIMEZONE
TZID:Atlantic/Reykjavik
BEGIN:STANDARD
TZOFFSETFROM:+0000
TZOFFSETTO:+0000
TZNAME:GMT
DTSTART:20180101T000000
END:STANDARD
END:VTIMEZONE
BEGIN:VEVENT
DTSTART;TZID=Atlantic/Reykjavik:20191218T100000
DTEND;TZID=Atlantic/Reykjavik:20191218T110000
DTSTAMP:20260422T203813
CREATED:20200815T123230Z
LAST-MODIFIED:20200815T175311Z
UID:3301-1576663200-1576666800@dokkan.is
SUMMARY:DOKKUFUNDUR: Gagnlegt og ógagnlegt gagnsæi
DESCRIPTION:Flestir eru sammála um að gagnsæi sé eftirsóknarverður eiginleiki í stjórnsýslu og viðskiptum. Gagnsæi hjálpar okkur að taka upplýstar ákvarðanir\, eykur skilvirkni\, stuðlar að gagnrýnni og uppbyggilegri umræðu\, stuðlar að samfélagslegri og vísindalegri framþróun og svo mætti lengi telja. Gagnsæi er þó ekki sjálfsagt og það hvernig við vinnum með þær upplýsingar sem við fáum getur haft áhrif á upplýsingaflæði í framtíðinni\, þ.e. aukið eða dregið úr gagnsæinu.En af hverju tortryggja mörg
URL:https://dokkan.is/fundur/dokkufundur-gagnlegt-og-ogagnlegt-gagnsaei/
LOCATION:Dokkan\, Iceland
CATEGORIES:Dokkufundir - fyrir þau sem vita að framtíðin bíður ekki eftir þeim sem bíða...
END:VEVENT
END:VCALENDAR