BEGIN:VCALENDAR
VERSION:2.0
PRODID:-//Dokkan - ECPv6.15.17//NONSGML v1.0//EN
CALSCALE:GREGORIAN
METHOD:PUBLISH
X-ORIGINAL-URL:https://dokkan.is
X-WR-CALDESC:Events for Dokkan
REFRESH-INTERVAL;VALUE=DURATION:PT1H
X-Robots-Tag:noindex
X-PUBLISHED-TTL:PT1H
BEGIN:VTIMEZONE
TZID:Atlantic/Reykjavik
BEGIN:STANDARD
TZOFFSETFROM:+0000
TZOFFSETTO:+0000
TZNAME:GMT
DTSTART:20180101T000000
END:STANDARD
END:VTIMEZONE
BEGIN:VEVENT
DTSTART;TZID=Atlantic/Reykjavik:20191216T100000
DTEND;TZID=Atlantic/Reykjavik:20191216T110000
DTSTAMP:20260422T203810
CREATED:20200815T123230Z
LAST-MODIFIED:20200815T175322Z
UID:3304-1576490400-1576494000@dokkan.is
SUMMARY:DOKKUFUNDUR: Persónuvernd og upplýsingaöryggisstaðlarnir ISO/IEC 27001 og ISO/IEC 27002
DESCRIPTION:Hvernig passa ákvæði GDPR persónuverndarreglugerðarinnar við upplýsingaöryggisstaðlana ISO/IEC 27001 og ISO/IEC 27002?Almenna persónuverndarreglugerðin (GDPR) tók gildi innan EES svæðisins 25. maí 2018. Hún leggur allskonar skyldur á skipulagsheildir\, hvort sem það eru opinberar stofnanir eða fyrirtæki. Persónuvernd og upplýsingaöryggi eru nátengd og annað getur ekki annað án hins verið. Það var því eðlilegt að litið væri til þess hvernig ákvæði persónuverndarreglugerðarinnar pössuðu
URL:https://dokkan.is/fundur/dokkufundur-personuvernd-og-upplysingaoryggisstadlarnir-iso-iec-27001-og-iso-iec-27002/
LOCATION:Dokkan\, Iceland
CATEGORIES:Dokkufundir - fyrir þau sem vita að framtíðin bíður ekki eftir þeim sem bíða...
END:VEVENT
BEGIN:VEVENT
DTSTART;TZID=Atlantic/Reykjavik:20191216T100000
DTEND;TZID=Atlantic/Reykjavik:20191216T110000
DTSTAMP:20260422T203810
CREATED:20200815T123230Z
LAST-MODIFIED:20200815T175319Z
UID:3303-1576490400-1576494000@dokkan.is
SUMMARY:DOKKUFUNDUR:  Nýjasta róbótatækni hjá Marel og sjálfvirknivæðing
DESCRIPTION:Marel notar sýndarveruleika og hermanir í auknum mæli\, bæði við framleiðslu og sölu og jafnframt til þess að hraða þróunarferlinu og draga úr kostnaði við uppsetningar fyrir viðskiptavini. Sýndarveruleikatækni býður upp á að sýna tæki og lausnir í þrívíðum og í skalanum einn á móti einum til að bæta samskipti við mögulega viðskiptavini og minnka óvissuþætti. Viðbættur veruleiki hjálpar við að auka námkvæmni og hraða í samsetningum ásamt því að glæða tæki og markaðsefni lífi á sýningum
URL:https://dokkan.is/fundur/dokkufundur-nyjasta-robotataekni-hja-marel-og-sjalfvirknivaeding/
LOCATION:Dokkan\, Iceland
CATEGORIES:Dokkufundir - fyrir þau sem vita að framtíðin bíður ekki eftir þeim sem bíða...
END:VEVENT
BEGIN:VEVENT
DTSTART;TZID=Atlantic/Reykjavik:20191216T100000
DTEND;TZID=Atlantic/Reykjavik:20191216T110000
DTSTAMP:20260422T203810
CREATED:20200815T123230Z
LAST-MODIFIED:20200815T175317Z
UID:3302-1576490400-1576494000@dokkan.is
SUMMARY:BEZTA NÁMSKEIÐ:  Eiginleikar og hönnun góðra verklagsreglna
DESCRIPTION:Ekki er hægt að skrá sig á námskeiðið hér á þessari síðu.Þú þarft að smella hér til að skrá þig á námskeiðið – opnað verður fyrir skráningu bráðlega.
URL:https://dokkan.is/fundur/bezta-namskeid-eiginleikar-og-honnun-godra-verklagsreglna/
LOCATION:Dokkan\, Iceland
CATEGORIES:BEZTA námskeið,Dokkufundir - fyrir þau sem vita að framtíðin bíður ekki eftir þeim sem bíða...
END:VEVENT
END:VCALENDAR