BEGIN:VCALENDAR
VERSION:2.0
PRODID:-//Dokkan - ECPv6.15.17//NONSGML v1.0//EN
CALSCALE:GREGORIAN
METHOD:PUBLISH
X-ORIGINAL-URL:https://dokkan.is
X-WR-CALDESC:Events for Dokkan
REFRESH-INTERVAL;VALUE=DURATION:PT1H
X-Robots-Tag:noindex
X-PUBLISHED-TTL:PT1H
BEGIN:VTIMEZONE
TZID:Atlantic/Reykjavik
BEGIN:STANDARD
TZOFFSETFROM:+0000
TZOFFSETTO:+0000
TZNAME:GMT
DTSTART:20180101T000000
END:STANDARD
END:VTIMEZONE
BEGIN:VEVENT
DTSTART;TZID=Atlantic/Reykjavik:20191213T100000
DTEND;TZID=Atlantic/Reykjavik:20191213T110000
DTSTAMP:20260422T203846
CREATED:20200815T123231Z
LAST-MODIFIED:20200815T175328Z
UID:3305-1576231200-1576234800@dokkan.is
SUMMARY:DOKKUFUNDUR: Hin fjölmörgu andlit vefverslunar
DESCRIPTION:Þessum Dokkufundi hefur verið frestað um óákveðin tíma vegna varúðarráðstafanna gegn COVID – 19. Við finnum nýja dagss. þegar betur horfir með framvindu þessa vágestar.Vegferð Origo við uppbyggingu BtoB vefverslunnar og hvað ber framtíðin í skauti sér í þróun vefverslunar.Hverjir verða með okkur?Sævar Ólafsson og Hreinn Eggertsson\, sérfræðingar hjá OrigoHvar verðum
URL:https://dokkan.is/fundur/dokkufundur-hin-fjolmorgu-andlit-vefverslunar/
LOCATION:Dokkan\, Iceland
CATEGORIES:Dokkufundir - fyrir þau sem vita að framtíðin bíður ekki eftir þeim sem bíða...
END:VEVENT
BEGIN:VEVENT
DTSTART;TZID=Atlantic/Reykjavik:20191213T100000
DTEND;TZID=Atlantic/Reykjavik:20191213T110000
DTSTAMP:20260422T203846
CREATED:20200815T123231Z
LAST-MODIFIED:20200815T175335Z
UID:3306-1576231200-1576234800@dokkan.is
SUMMARY:FRESTAÐ - DOKKUFUNDUR: Þjónustustjórnun: Valdefling og framgangur starfsfólks í þjónustustörfum hjá IKEA
DESCRIPTION:Stjórnendur á þjónustusviði IKEA hafa á síðustu misserum unnið að miklum breytingum á allri þjónustu fyrirtækisins með sérstakri áherslu á aukna þátttöku allra starfsmanna.Á Dokkufundinum fáum við innsýn í framkvæmd þessara breytinga\, þjálfun og valdeflingu starfsmanna og nýjar áherslur í þjónustustjórnunnni hjá IKEA.Hverjir verða með okkur? Trausti Friðbertsson\, þjónustustjóri IKEA Monika Rós Steingrímsdóttir\, svæðisstjóri á
URL:https://dokkan.is/fundur/frestad-dokkufundur-thjonustustjornun-valdefling-og-framgangur-starfsfolks-i-thjonustustorfum-hja-ikea/
LOCATION:Dokkan\, Iceland
CATEGORIES:Dokkufundir - fyrir þau sem vita að framtíðin bíður ekki eftir þeim sem bíða...
END:VEVENT
END:VCALENDAR