BEGIN:VCALENDAR
VERSION:2.0
PRODID:-//Dokkan - ECPv6.15.17//NONSGML v1.0//EN
CALSCALE:GREGORIAN
METHOD:PUBLISH
X-ORIGINAL-URL:https://dokkan.is
X-WR-CALDESC:Events for Dokkan
REFRESH-INTERVAL;VALUE=DURATION:PT1H
X-Robots-Tag:noindex
X-PUBLISHED-TTL:PT1H
BEGIN:VTIMEZONE
TZID:Atlantic/Reykjavik
BEGIN:STANDARD
TZOFFSETFROM:+0000
TZOFFSETTO:+0000
TZNAME:GMT
DTSTART:20180101T000000
END:STANDARD
END:VTIMEZONE
BEGIN:VEVENT
DTSTART;TZID=Atlantic/Reykjavik:20191017T100000
DTEND;TZID=Atlantic/Reykjavik:20191017T110000
DTSTAMP:20260423T001024
CREATED:20200815T123233Z
LAST-MODIFIED:20200815T175353Z
UID:3316-1571306400-1571310000@dokkan.is
SUMMARY:BEZTA: Grunnnámskeið í Stjórnun viðskiptaferla BPM
DESCRIPTION:BEZTA námskeið þarf að greiða sérstaklega fyrir og þú getur ekki skráð þig á námskeiðið á þessari síðu.Allar nánari upplýsingar og skráning hér 
URL:https://dokkan.is/fundur/bezta-grunnnamskeid-i-stjornun-vidskiptaferla-bpm/
LOCATION:Dokkan\, Iceland
CATEGORIES:BEZTA námskeið,Dokkufundir - fyrir þau sem vita að framtíðin bíður ekki eftir þeim sem bíða...
END:VEVENT
END:VCALENDAR