BEGIN:VCALENDAR
VERSION:2.0
PRODID:-//Dokkan - ECPv6.15.17//NONSGML v1.0//EN
CALSCALE:GREGORIAN
METHOD:PUBLISH
X-ORIGINAL-URL:https://dokkan.is
X-WR-CALDESC:Events for Dokkan
REFRESH-INTERVAL;VALUE=DURATION:PT1H
X-Robots-Tag:noindex
X-PUBLISHED-TTL:PT1H
BEGIN:VTIMEZONE
TZID:Atlantic/Reykjavik
BEGIN:STANDARD
TZOFFSETFROM:+0000
TZOFFSETTO:+0000
TZNAME:GMT
DTSTART:20180101T000000
END:STANDARD
END:VTIMEZONE
BEGIN:VEVENT
DTSTART;TZID=Atlantic/Reykjavik:20190915T100000
DTEND;TZID=Atlantic/Reykjavik:20190915T110000
DTSTAMP:20260423T015735
CREATED:20200815T123234Z
LAST-MODIFIED:20200815T175408Z
UID:3322-1568541600-1568545200@dokkan.is
SUMMARY:BEZTA: Lean leiðtogar: Lykill að Lean árangri
DESCRIPTION:Allar nánari upplýsingar um námskeiðið og skráning hér.
URL:https://dokkan.is/fundur/bezta-lean-leidtogar-lykill-ad-lean-arangri/
LOCATION:Dokkan\, Iceland
CATEGORIES:BEZTA námskeið,Dokkufundir - fyrir þau sem vita að framtíðin bíður ekki eftir þeim sem bíða...
END:VEVENT
BEGIN:VEVENT
DTSTART;TZID=Atlantic/Reykjavik:20190915T100000
DTEND;TZID=Atlantic/Reykjavik:20190915T110000
DTSTAMP:20260423T015735
CREATED:20200815T123234Z
LAST-MODIFIED:20200815T175410Z
UID:3323-1568541600-1568545200@dokkan.is
SUMMARY:DOKKUFUNDUR: Stjórnuðu sjálfum þér\, tímanum og árangrinum\, nokkur hagnýt ráð
DESCRIPTION:Þú lærir nokkur hagnýt atriði sem skila þér samstundis árangri. Stjórnuðu sjálfum þér\, tímanum og árangrinum – gætu verið lykilatriði í að hjálpa þér við að takast á við stjórnanda hlutverkið hvort sem þú ert að stýra einstaka verkefnum eða einingum innan fyrirtækisins.Þegar maður stígur inn í stjórnunarhlutverkið þá finnst manni stundum eins og maður þurfi að vita allt eða a.m.k ansi margt. Í þessum fyrirlestri ætlar Gunnar að nefna 7 lykilatriði sem er uppistaðan í
URL:https://dokkan.is/fundur/dokkufundur-stjornudu-sjalfum-ther-timanum-og-arangrinum-nokkur-hagnyt-rad/
LOCATION:Dokkan\, Iceland
CATEGORIES:Dokkufundir - fyrir þau sem vita að framtíðin bíður ekki eftir þeim sem bíða...
END:VEVENT
BEGIN:VEVENT
DTSTART;TZID=Atlantic/Reykjavik:20190915T100000
DTEND;TZID=Atlantic/Reykjavik:20190915T110000
DTSTAMP:20260423T015735
CREATED:20200815T123234Z
LAST-MODIFIED:20200815T175412Z
UID:3324-1568541600-1568545200@dokkan.is
SUMMARY:BEZTA námskeið: Microsoft Excel. Skilvirk gagnagreining með Pivot töflum
DESCRIPTION:BEZTA námskeið þarf að greiða sérstaklega fyrir og þú getur ekki skráð þig á námskeiðið á þessari síðu.Allar nánari upplýsingar og skráning hér 
URL:https://dokkan.is/fundur/bezta-namskeid-microsoft-excel-skilvirk-gagnagreining-med-pivot-toflum/
LOCATION:Dokkan\, Iceland
CATEGORIES:BEZTA námskeið,Dokkufundir - fyrir þau sem vita að framtíðin bíður ekki eftir þeim sem bíða...
END:VEVENT
BEGIN:VEVENT
DTSTART;TZID=Atlantic/Reykjavik:20190915T100000
DTEND;TZID=Atlantic/Reykjavik:20190915T110000
DTSTAMP:20260423T015735
CREATED:20200815T123235Z
LAST-MODIFIED:20200815T175406Z
UID:3325-1568541600-1568545200@dokkan.is
SUMMARY:BEZTA: Öryggismál: Grunnnámskeið með Lean áherslum
DESCRIPTION:Nánari upplýsingar um námskeiðið og skráning hér.
URL:https://dokkan.is/fundur/bezta-oryggismal-grunnnamskeid-med-lean-aherslum/
LOCATION:Dokkan\, Iceland
CATEGORIES:BEZTA námskeið,Dokkufundir - fyrir þau sem vita að framtíðin bíður ekki eftir þeim sem bíða...
END:VEVENT
END:VCALENDAR