BEGIN:VCALENDAR
VERSION:2.0
PRODID:-//Dokkan - ECPv6.15.17//NONSGML v1.0//EN
CALSCALE:GREGORIAN
METHOD:PUBLISH
X-ORIGINAL-URL:https://dokkan.is
X-WR-CALDESC:Events for Dokkan
REFRESH-INTERVAL;VALUE=DURATION:PT1H
X-Robots-Tag:noindex
X-PUBLISHED-TTL:PT1H
BEGIN:VTIMEZONE
TZID:Atlantic/Reykjavik
BEGIN:STANDARD
TZOFFSETFROM:+0000
TZOFFSETTO:+0000
TZNAME:GMT
DTSTART:20180101T000000
END:STANDARD
END:VTIMEZONE
BEGIN:VEVENT
DTSTART;TZID=Atlantic/Reykjavik:20190913T100000
DTEND;TZID=Atlantic/Reykjavik:20190913T110000
DTSTAMP:20260423T015650
CREATED:20200815T123235Z
LAST-MODIFIED:20200815T175414Z
UID:3326-1568368800-1568372400@dokkan.is
SUMMARY:DOKKUFUNDUR: Icelandair: Starfsmannasamtöl í stóru fyrirtæki með flókinn strúktúr
DESCRIPTION:Starfsmannasamtöl úrelt eða klassíst stjórntæki?Við fáum ekki úr þessu álitamáli skorið nema heyra í þeim sem hafa reynslu af að nota starfsmannasamtöl\, vinna úr þeim verðmætar upplýsingar\, sem mögulega geta stuðlað að betri ákvarðanatöku – eða hvað?Við erum alla vega að safna reynslusögum og hitta gott fólk til að spjalla.Hvern hittum við:Írisi Ösp Bergþórsdóttur\, sérfræðing á mannauðssviði IcelandairHvar hittum við Írisi?Í útibúi Arion banka á
URL:https://dokkan.is/fundur/dokkufundur-icelandair-starfsmannasamtol-i-storu-fyrirtaeki-med-flokinn-struktur/
LOCATION:Dokkan\, Iceland
CATEGORIES:Dokkufundir - fyrir þau sem vita að framtíðin bíður ekki eftir þeim sem bíða...
END:VEVENT
END:VCALENDAR