BEGIN:VCALENDAR
VERSION:2.0
PRODID:-//Dokkan - ECPv6.15.17//NONSGML v1.0//EN
CALSCALE:GREGORIAN
METHOD:PUBLISH
X-ORIGINAL-URL:https://dokkan.is
X-WR-CALDESC:Events for Dokkan
REFRESH-INTERVAL;VALUE=DURATION:PT1H
X-Robots-Tag:noindex
X-PUBLISHED-TTL:PT1H
BEGIN:VTIMEZONE
TZID:Atlantic/Reykjavik
BEGIN:STANDARD
TZOFFSETFROM:+0000
TZOFFSETTO:+0000
TZNAME:GMT
DTSTART:20180101T000000
END:STANDARD
END:VTIMEZONE
BEGIN:VEVENT
DTSTART;TZID=Atlantic/Reykjavik:20190906T100000
DTEND;TZID=Atlantic/Reykjavik:20190906T110000
DTSTAMP:20260423T015652
CREATED:20200815T123235Z
LAST-MODIFIED:20200815T175419Z
UID:3329-1567764000-1567767600@dokkan.is
SUMMARY:DOKKUFUNDUR: Vertu þinn eigin þjálfari - og gerðu það sem þú vilt!
DESCRIPTION:Hann Siggi Raggi ætlar að vera með skemmtilegan pepp fyrirlestur um aðferðir sem fólk hefur notað til að verða framúrskarandi á sínu sviði. Getur þú notað sömu aðferðir í að verða betri í því sem þú ert að fást við í þínu starfi\, námi eða áhugamáli? Hvernig fóru Gylfi Sigurðsson og Sara Björk Gunnarsdóttir að því að ve á rða best á landinu í fótbolta? Hvernig fór Elín Metta Jensen að því að dúxa á inntökuprófinu í læknisfræði eftir að hafa ekki verið á meðal 50
URL:https://dokkan.is/fundur/dokkufundur-vertu-thinn-eigin-thjalfari-og-gerdu-thad-sem-thu-vilt/
LOCATION:Dokkan\, Iceland
CATEGORIES:Dokkufundir - fyrir þau sem vita að framtíðin bíður ekki eftir þeim sem bíða...
END:VEVENT
END:VCALENDAR