BEGIN:VCALENDAR
VERSION:2.0
PRODID:-//Dokkan - ECPv6.15.17//NONSGML v1.0//EN
CALSCALE:GREGORIAN
METHOD:PUBLISH
X-WR-CALNAME:Dokkan
X-ORIGINAL-URL:https://dokkan.is
X-WR-CALDESC:Events for Dokkan
REFRESH-INTERVAL;VALUE=DURATION:PT1H
X-Robots-Tag:noindex
X-PUBLISHED-TTL:PT1H
BEGIN:VTIMEZONE
TZID:Atlantic/Reykjavik
BEGIN:STANDARD
TZOFFSETFROM:+0000
TZOFFSETTO:+0000
TZNAME:GMT
DTSTART:20180101T000000
END:STANDARD
END:VTIMEZONE
BEGIN:VEVENT
DTSTART;TZID=Atlantic/Reykjavik:20190506T100000
DTEND;TZID=Atlantic/Reykjavik:20190506T110000
DTSTAMP:20260423T092605
CREATED:20200815T123237Z
LAST-MODIFIED:20200815T175434Z
UID:3336-1557136800-1557140400@dokkan.is
SUMMARY:Sumarfríið og fjölskyldan - hvernig gerum við gott frí?
DESCRIPTION:Hjá allt of mörgum okkar magna fríin upp streitu og annríki um leið og snjallsímarnir halda okkur í fullkomnu sambandi við heiminn\, sem við vildum hafa gleymt um stund. Við þekkjum flest þá tilfinningu að koma til baka úr sumarleyfi uppgefnari en þegar við lögnum af stað. Ýmislegt bendir til að í rauninni sé það þannig að 58% starfsmanna finni alls ekki fyrir minni streitu í fríinu en í vinnunni og 28% þeirra koma heim úr frí mun stressaðri en þegar það hófst.”(Arianna Huffington í
URL:https://dokkan.is/fundur/sumarfriid-og-fjolskyldan-hvernig-gerum-vid-gott-fri/
LOCATION:Dokkan\, Iceland
CATEGORIES:Dokkufundir - fyrir þau sem vita að framtíðin bíður ekki eftir þeim sem bíða...
END:VEVENT
END:VCALENDAR