BEGIN:VCALENDAR
VERSION:2.0
PRODID:-//Dokkan - ECPv6.15.17//NONSGML v1.0//EN
CALSCALE:GREGORIAN
METHOD:PUBLISH
X-ORIGINAL-URL:https://dokkan.is
X-WR-CALDESC:Events for Dokkan
REFRESH-INTERVAL;VALUE=DURATION:PT1H
X-Robots-Tag:noindex
X-PUBLISHED-TTL:PT1H
BEGIN:VTIMEZONE
TZID:Atlantic/Reykjavik
BEGIN:STANDARD
TZOFFSETFROM:+0000
TZOFFSETTO:+0000
TZNAME:GMT
DTSTART:20180101T000000
END:STANDARD
END:VTIMEZONE
BEGIN:VEVENT
DTSTART;TZID=Atlantic/Reykjavik:20190505T100000
DTEND;TZID=Atlantic/Reykjavik:20190505T110000
DTSTAMP:20260423T091537
CREATED:20200815T123237Z
LAST-MODIFIED:20200815T175439Z
UID:3337-1557050400-1557054000@dokkan.is
SUMMARY:Marel: Mannauðsstjórnun á alþjóðalega sviðinu
DESCRIPTION:Marel is the leading global provider of advanced end-to-end processing systems and services for the poultry\, meat and fish industries. We’re innovators and trailblazers. We bring together the best people\, the most advanced technology\, and cutting-edge machinery to deliver real change in the way food is processed and consumed. Being a world leader means embracing a global approach\, Marel began its life in Iceland\, where we’re still headquartered\, but during our four decades of operation
URL:https://dokkan.is/fundur/marel-mannaudsstjornun-a-althjodalega-svidinu/
LOCATION:Dokkan\, Iceland
CATEGORIES:Dokkufundir - fyrir þau sem vita að framtíðin bíður ekki eftir þeim sem bíða...
END:VEVENT
BEGIN:VEVENT
DTSTART;TZID=Atlantic/Reykjavik:20190505T100000
DTEND;TZID=Atlantic/Reykjavik:20190505T110000
DTSTAMP:20260423T091537
CREATED:20200815T123237Z
LAST-MODIFIED:20200815T175441Z
UID:3338-1557050400-1557054000@dokkan.is
SUMMARY:Lean; ferskur innblástur frá USA
DESCRIPTION:Fimm manna hópur lagði af stað í leiðangur til USA í mars síðastliðnum.Upphaflegur tilgangur ferðarinnar var að sækja stóra ráðstefnu; LEI Lean Summit 2019 í Texas en ráðstefna af þessum toga er árlegur viðburður á vegum Lean Enterprise Institute (LEI). LEI eru stærstu samtökin í hinu alþjóðlega Lean Global Networki en Icelandic Lean Institute gekk í þetta net samtaka fyrir umári síðan.Hópurinn skipulagði fyrirtækjaheimsóknir beggja vegna við ráðstefnuna og má þar nefna
URL:https://dokkan.is/fundur/lean-ferskur-innblastur-fra-usa/
LOCATION:Dokkan\, Iceland
CATEGORIES:Dokkufundir - fyrir þau sem vita að framtíðin bíður ekki eftir þeim sem bíða...
END:VEVENT
END:VCALENDAR