BEGIN:VCALENDAR
VERSION:2.0
PRODID:-//Dokkan - ECPv6.15.17//NONSGML v1.0//EN
CALSCALE:GREGORIAN
METHOD:PUBLISH
X-ORIGINAL-URL:https://dokkan.is
X-WR-CALDESC:Events for Dokkan
REFRESH-INTERVAL;VALUE=DURATION:PT1H
X-Robots-Tag:noindex
X-PUBLISHED-TTL:PT1H
BEGIN:VTIMEZONE
TZID:Atlantic/Reykjavik
BEGIN:STANDARD
TZOFFSETFROM:+0000
TZOFFSETTO:+0000
TZNAME:GMT
DTSTART:20180101T000000
END:STANDARD
END:VTIMEZONE
BEGIN:VEVENT
DTSTART;TZID=Atlantic/Reykjavik:20190321T100000
DTEND;TZID=Atlantic/Reykjavik:20190321T110000
DTSTAMP:20260423T125411
CREATED:20200815T123238Z
LAST-MODIFIED:20200815T175511Z
UID:3342-1553162400-1553166000@dokkan.is
SUMMARY:Lykiltölur í vöruflæði ÁTVR og Power BI til að styrkja ákvarðanatöku og stjórnun í vörukeðjunni
DESCRIPTION:ÁTVR rekur 51 Vínbúð auk vefverslunar.  Á fundinum verður greint frá  áskorunum í vöruflæði áfengis\, helstu lykiltölum\, þeim hefðbundnu kerfum sem notuð eru til að stýra vöruflæðinu og að lokum verður farið í gegnum hvernig ÁTVR notar önnur kerfi eins og t.d. PowerBI til að styðja við ákvarðanatöku og daglega stjórnun í vörukeðjunni.Hverjir verða með okkur? Bára Rós Björnsdóttir\, innkaupastjóri Gunnar Freyr Þórisson\, verkefnastjóri Kristján M. Ólafsson\,
URL:https://dokkan.is/fundur/lykiltolur-i-voruflaedi-atvr-og-power-bi-til-ad-styrkja-akvardanatoku-og-stjornun-i-vorukedjunni/
LOCATION:Dokkan\, Iceland
CATEGORIES:Dokkufundir - fyrir þau sem vita að framtíðin bíður ekki eftir þeim sem bíða...
END:VEVENT
END:VCALENDAR