BEGIN:VCALENDAR
VERSION:2.0
PRODID:-//Dokkan - ECPv6.15.17//NONSGML v1.0//EN
CALSCALE:GREGORIAN
METHOD:PUBLISH
X-WR-CALNAME:Dokkan
X-ORIGINAL-URL:https://dokkan.is
X-WR-CALDESC:Events for Dokkan
REFRESH-INTERVAL;VALUE=DURATION:PT1H
X-Robots-Tag:noindex
X-PUBLISHED-TTL:PT1H
BEGIN:VTIMEZONE
TZID:Atlantic/Reykjavik
BEGIN:STANDARD
TZOFFSETFROM:+0000
TZOFFSETTO:+0000
TZNAME:GMT
DTSTART:20180101T000000
END:STANDARD
END:VTIMEZONE
BEGIN:VEVENT
DTSTART;TZID=Atlantic/Reykjavik:20190226T100000
DTEND;TZID=Atlantic/Reykjavik:20190226T110000
DTSTAMP:20260423T123323
CREATED:20200815T123239Z
LAST-MODIFIED:20200815T175515Z
UID:3344-1551175200-1551178800@dokkan.is
SUMMARY:Kvíði\, hamlandi fullkomnunarárátta og áhyggjur: Getur það verið fyndið?
DESCRIPTION:Nóg af sætum: Villa að það sé fullbókað – skráðu þig núna!Tvennt af því sem við gerum aldrei of mikið af er að hlægja og að sækja okkur innblástur og hvatningu. Á þessum Dokkufundi verður flóð af hvoru tveggja. Þau sem verða með okkur eru flestum okkar af góðu kunn og við vitum nákvæmlega fyrir hvað þau standa:Fyrstan má nefna Bergþór Pálsson\, hinn eina sanna.
URL:https://dokkan.is/fundur/kvidi-hamlandi-fullkomnunararatta-og-ahyggjur-getur-thad-verid-fyndid/
LOCATION:Dokkan\, Iceland
CATEGORIES:Dokkufundir - fyrir þau sem vita að framtíðin bíður ekki eftir þeim sem bíða...
END:VEVENT
END:VCALENDAR