BEGIN:VCALENDAR
VERSION:2.0
PRODID:-//Dokkan - ECPv6.15.17//NONSGML v1.0//EN
CALSCALE:GREGORIAN
METHOD:PUBLISH
X-ORIGINAL-URL:https://dokkan.is
X-WR-CALDESC:Events for Dokkan
REFRESH-INTERVAL;VALUE=DURATION:PT1H
X-Robots-Tag:noindex
X-PUBLISHED-TTL:PT1H
BEGIN:VTIMEZONE
TZID:Atlantic/Reykjavik
BEGIN:STANDARD
TZOFFSETFROM:+0000
TZOFFSETTO:+0000
TZNAME:GMT
DTSTART:20180101T000000
END:STANDARD
END:VTIMEZONE
BEGIN:VEVENT
DTSTART;TZID=Atlantic/Reykjavik:20190218T100000
DTEND;TZID=Atlantic/Reykjavik:20190218T110000
DTSTAMP:20260423T143226
CREATED:20200815T123240Z
LAST-MODIFIED:20200815T175538Z
UID:3348-1550484000-1550487600@dokkan.is
SUMMARY:Greining mannauðsgagna\, forsenda ákvörðunartöku og mannaflaspár í OR samstæðunni
DESCRIPTION:Mannauðs- og launagögn hafa verið nýtt til grundvallar spágerð í Orkuveitusamstæðunni allt frá árinu 2014. Afurðin er launa- og mannaflaspá fyrirtækjanna\, hún er meðal annars nýtt til að kortleggja álag í ráðningum\, mögulegar arftakagreiningar og þjálfunarþörf. Framsetning á lifandi mannauðsmælaborðum verður kynnt þar sem lykilmælikvarðar og staða gagnvart markmiðum eru sett fram.Þú færð meðal annars svar við spurningum eins og: Hverju er mikilvægt að huga að við nýtingu
URL:https://dokkan.is/fundur/greining-mannaudsgagna-forsenda-akvordunartoku-og-mannaflaspar-i-or-samstaedunni/
LOCATION:Dokkan\, Iceland
CATEGORIES:Dokkufundir - fyrir þau sem vita að framtíðin bíður ekki eftir þeim sem bíða...
END:VEVENT
END:VCALENDAR