BEGIN:VCALENDAR
VERSION:2.0
PRODID:-//Dokkan - ECPv6.15.17//NONSGML v1.0//EN
CALSCALE:GREGORIAN
METHOD:PUBLISH
X-ORIGINAL-URL:https://dokkan.is
X-WR-CALDESC:Events for Dokkan
REFRESH-INTERVAL;VALUE=DURATION:PT1H
X-Robots-Tag:noindex
X-PUBLISHED-TTL:PT1H
BEGIN:VTIMEZONE
TZID:Atlantic/Reykjavik
BEGIN:STANDARD
TZOFFSETFROM:+0000
TZOFFSETTO:+0000
TZNAME:GMT
DTSTART:20180101T000000
END:STANDARD
END:VTIMEZONE
BEGIN:VEVENT
DTSTART;TZID=Atlantic/Reykjavik:20190130T100000
DTEND;TZID=Atlantic/Reykjavik:20190130T110000
DTSTAMP:20260423T143226
CREATED:20200815T123240Z
LAST-MODIFIED:20200815T175543Z
UID:3350-1548842400-1548846000@dokkan.is
SUMMARY:Áætlunargerð: Tilgangur\, aðferð og áskoranir
DESCRIPTION:Raunhæf áætlun er eitt mikilvægasta verkfæri sem fyrirtæki nýta til að stýra rekstri. Áætlunargerðinni fylgja þó ýmis konar áskoranir sérstaklega þar sem breytingar eru örar.Á fundinum verður lögð áhersla á að svara eftirfarandi spurningum: Til hvers er áætlun gerð? Hverjir nýta áætlunina? Hvaða þætti þarf að taka tillit til? Hvernig styður áætlun við rekstur og stefnu fyrirtækja? Hverjar eru helstu áskoranir? Er áætlunin rituð
URL:https://dokkan.is/fundur/aaetlunargerd-tilgangur-adferd-og-askoranir/
LOCATION:Dokkan\, Iceland
CATEGORIES:Dokkufundir - fyrir þau sem vita að framtíðin bíður ekki eftir þeim sem bíða...
END:VEVENT
END:VCALENDAR