BEGIN:VCALENDAR
VERSION:2.0
PRODID:-//Dokkan - ECPv6.15.17//NONSGML v1.0//EN
CALSCALE:GREGORIAN
METHOD:PUBLISH
X-ORIGINAL-URL:https://dokkan.is
X-WR-CALDESC:Events for Dokkan
REFRESH-INTERVAL;VALUE=DURATION:PT1H
X-Robots-Tag:noindex
X-PUBLISHED-TTL:PT1H
BEGIN:VTIMEZONE
TZID:Atlantic/Reykjavik
BEGIN:STANDARD
TZOFFSETFROM:+0000
TZOFFSETTO:+0000
TZNAME:GMT
DTSTART:20180101T000000
END:STANDARD
END:VTIMEZONE
BEGIN:VEVENT
DTSTART;TZID=Atlantic/Reykjavik:20190114T100000
DTEND;TZID=Atlantic/Reykjavik:20190114T110000
DTSTAMP:20260423T160751
CREATED:20200815T123241Z
LAST-MODIFIED:20200815T175550Z
UID:3353-1547460000-1547463600@dokkan.is
SUMMARY:Workplace - bóla eða hinn nýi innri vefur?
DESCRIPTION:Fjölmargir vinnustaðir eru að  annað hvort að vinna með Workplace eða að velta fyrir að hefja innleiðingu á Workplacece.Á fundinum fáum við heyra af  reynslu Reykjavíkurborgar af Workplace\, hvernig innleiðingin gekk fyrir sigog  helstu lærdóma og áskoranir sem má draga af ferlinu.Hver verður með okkkur?Þröstur Sigurðsson\,\, deildarstjóri Rafrænnar þjónustumiðstöðvar hjá ReykjavíkurborgHvar verðum við?Hjá Reykjavíkurborg\, fundarherbergi Hof á 7. hæð á
URL:https://dokkan.is/fundur/workplace-bola-eda-hinn-nyi-innri-vefur/
LOCATION:Dokkan\, Iceland
CATEGORIES:Dokkufundir - fyrir þau sem vita að framtíðin bíður ekki eftir þeim sem bíða...
END:VEVENT
BEGIN:VEVENT
DTSTART;TZID=Atlantic/Reykjavik:20190114T100000
DTEND;TZID=Atlantic/Reykjavik:20190114T110000
DTSTAMP:20260423T160751
CREATED:20200815T123241Z
LAST-MODIFIED:20200815T175552Z
UID:3354-1547460000-1547463600@dokkan.is
SUMMARY:Viðburðastjórnun: Árshátíð í stóru fyrirtæki\, undirbúningur og skipulag
DESCRIPTION:Fundurinn er þann 19. feb. en EKKI 21. feb. eins og misritaðist í auglýsingunni i tölvupóstinum – afsakið þetta.Árshátíð fyrirtæka er ómissandi og einn sá viðburður sem starfsmenn flestir bíða spenntir eftir. Starfsmenn eru yfirleitt með miklar væntingar um að árshátíðin verði góð og er því ekkert annað að gera en að vanda vel til verka.Hvernig er árshátíð undirbúin og skipulögð í 1.200 manna fyrirtæki þar sem samsetning starfsmannahópsins
URL:https://dokkan.is/fundur/vidburdastjornun-arshatid-i-storu-fyrirtaeki-undirbuningur-og-skipulag/
LOCATION:Dokkan\, Iceland
CATEGORIES:Dokkufundir - fyrir þau sem vita að framtíðin bíður ekki eftir þeim sem bíða...
END:VEVENT
END:VCALENDAR