BEGIN:VCALENDAR
VERSION:2.0
PRODID:-//Dokkan - ECPv6.15.17//NONSGML v1.0//EN
CALSCALE:GREGORIAN
METHOD:PUBLISH
X-WR-CALNAME:Dokkan
X-ORIGINAL-URL:https://dokkan.is
X-WR-CALDESC:Events for Dokkan
REFRESH-INTERVAL;VALUE=DURATION:PT1H
X-Robots-Tag:noindex
X-PUBLISHED-TTL:PT1H
BEGIN:VTIMEZONE
TZID:Atlantic/Reykjavik
BEGIN:STANDARD
TZOFFSETFROM:+0000
TZOFFSETTO:+0000
TZNAME:GMT
DTSTART:20180101T000000
END:STANDARD
END:VTIMEZONE
BEGIN:VEVENT
DTSTART;TZID=Atlantic/Reykjavik:20190111T100000
DTEND;TZID=Atlantic/Reykjavik:20190111T110000
DTSTAMP:20260423T160753
CREATED:20200815T123241Z
LAST-MODIFIED:20200815T175554Z
UID:3355-1547200800-1547204400@dokkan.is
SUMMARY:Mannaflaspár\, atvinnuauglýsingar og starfsmannavelta
DESCRIPTION:Á fyrsta árfjórðungi 2019 mun Hagstofa Íslands byrja á að safna upplýsingum um laus störf og mannaflapsá á íslenskum vinnumarkaði. Markmið Hagstofu Íslands með þessari starfaskráningu er að til verði hagskýrslur sem gefi góða heildarmynd af fjölda lausra starfa og ráðningum á íslenskum vinnumarkaði.Niðurstöður munu einnig nýtast við mat á stöðugleika og mannaflaþörf á vinnumarkaði og gagnast fyrirtækjum og stofnunum til eigin greininga og áætlana á mannafla.Hagstofa Íslands
URL:https://dokkan.is/fundur/mannaflaspar-atvinnuauglysingar-og-starfsmannavelta/
LOCATION:Dokkan\, Iceland
CATEGORIES:Dokkufundir - fyrir þau sem vita að framtíðin bíður ekki eftir þeim sem bíða...
END:VEVENT
END:VCALENDAR