BEGIN:VCALENDAR
VERSION:2.0
PRODID:-//Dokkan - ECPv6.15.17//NONSGML v1.0//EN
CALSCALE:GREGORIAN
METHOD:PUBLISH
X-ORIGINAL-URL:https://dokkan.is
X-WR-CALDESC:Events for Dokkan
REFRESH-INTERVAL;VALUE=DURATION:PT1H
X-Robots-Tag:noindex
X-PUBLISHED-TTL:PT1H
BEGIN:VTIMEZONE
TZID:Atlantic/Reykjavik
BEGIN:STANDARD
TZOFFSETFROM:+0000
TZOFFSETTO:+0000
TZNAME:GMT
DTSTART:20180101T000000
END:STANDARD
END:VTIMEZONE
BEGIN:VEVENT
DTSTART;TZID=Atlantic/Reykjavik:20190110T100000
DTEND;TZID=Atlantic/Reykjavik:20190110T110000
DTSTAMP:20260423T160751
CREATED:20200815T123242Z
LAST-MODIFIED:20200815T175557Z
UID:3356-1547114400-1547118000@dokkan.is
SUMMARY:Að setja sig í spor notenda: Forsenda fyrir frábærri notendaupplifun
DESCRIPTION:Það er orðin sjálfsögð krafa viðskiptavina að upplifun þeirra af þjónustu og vörum sé jákvæð og þau nái þeim árangri sem þau þurfa auðveldlega. Metnaðarfull fyrirtæki sjá að með því að huga að notendaupplifun geta þau sjálf náð betri árangri. Hinsvegar er alls ekki augljóst hvernig á að bera sig að til að gera upplifun viðskiptavina jákvæða. Mikilvægasta skrefið í þá átt er að geta sett sig í spor viðskiptavina og nýtt sér upplýsingar um viðskiptavini í gegnum þróun og afhendingu á vörum og
URL:https://dokkan.is/fundur/ad-setja-sig-i-spor-notenda-forsenda-fyrir-frabaerri-notendaupplifun/
LOCATION:Dokkan\, Iceland
CATEGORIES:Dokkufundir - fyrir þau sem vita að framtíðin bíður ekki eftir þeim sem bíða...
END:VEVENT
END:VCALENDAR