BEGIN:VCALENDAR
VERSION:2.0
PRODID:-//Dokkan - ECPv6.15.17//NONSGML v1.0//EN
CALSCALE:GREGORIAN
METHOD:PUBLISH
X-WR-CALNAME:Dokkan
X-ORIGINAL-URL:https://dokkan.is
X-WR-CALDESC:Events for Dokkan
REFRESH-INTERVAL;VALUE=DURATION:PT1H
X-Robots-Tag:noindex
X-PUBLISHED-TTL:PT1H
BEGIN:VTIMEZONE
TZID:Atlantic/Reykjavik
BEGIN:STANDARD
TZOFFSETFROM:+0000
TZOFFSETTO:+0000
TZNAME:GMT
DTSTART:20180101T000000
END:STANDARD
END:VTIMEZONE
BEGIN:VEVENT
DTSTART;TZID=Atlantic/Reykjavik:20190109T100000
DTEND;TZID=Atlantic/Reykjavik:20190109T110000
DTSTAMP:20260423T160752
CREATED:20200815T123242Z
LAST-MODIFIED:20200815T175558Z
UID:3357-1547028000-1547031600@dokkan.is
SUMMARY:Kynningarfundur um IPMA vottun verkefnastjóra 2019. B\, C og D stig
DESCRIPTION:Verkefnastjórnunarfélag Íslands stendur fyrir kynningarfundi um IPMA vottun verkefnastjóra. Á fundinum verður farið  er yfir vottunarferlið og kröfur til umsækjanda.Umsóknir um vottun skulu í síðasta lagi berast félaginu mánudaginn 25. febrúar kl. 12:00.Próf verður haldið miðvikudaginn 13. mars eftir hádegi.Hvað verðum við?Verkfræðingahúsi\, Engjateig 9.
URL:https://dokkan.is/fundur/kynningarfundur-um-ipma-vottun-verkefnastjora-2019-b-c-og-d-stig/
LOCATION:Dokkan\, Iceland
CATEGORIES:Dokkufundir - fyrir þau sem vita að framtíðin bíður ekki eftir þeim sem bíða...
END:VEVENT
END:VCALENDAR