BEGIN:VCALENDAR
VERSION:2.0
PRODID:-//Dokkan - ECPv6.15.17//NONSGML v1.0//EN
CALSCALE:GREGORIAN
METHOD:PUBLISH
X-ORIGINAL-URL:https://dokkan.is
X-WR-CALDESC:Events for Dokkan
REFRESH-INTERVAL;VALUE=DURATION:PT1H
X-Robots-Tag:noindex
X-PUBLISHED-TTL:PT1H
BEGIN:VTIMEZONE
TZID:Atlantic/Reykjavik
BEGIN:STANDARD
TZOFFSETFROM:+0000
TZOFFSETTO:+0000
TZNAME:GMT
DTSTART:20170101T000000
END:STANDARD
END:VTIMEZONE
BEGIN:VEVENT
DTSTART;TZID=Atlantic/Reykjavik:20181210T100000
DTEND;TZID=Atlantic/Reykjavik:20181210T110000
DTSTAMP:20260423T173821
CREATED:20200815T123243Z
LAST-MODIFIED:20200815T175611Z
UID:3363-1544436000-1544439600@dokkan.is
SUMMARY:Hvernig á að bera sig að í viðskiptum við ríkið?
DESCRIPTION:Íslenska ríkið er risastór aðili á íslenskum innkaupamarkaði fyrir flest allar tegundir vöru og þjónustu? Er fyrir sem þú starfar hjá í viðskiptum við ríkið?Viltu auka hlut ríkisins í þínum viðskitpavina hópi? Hvernig á að bera sig að í viðskiptum við ríkið?Hver verður með okkur?Dagmar Guðmundsdóttir\, lögfræðingur hjá RíkiskaupumGuðrún Birna Finnsdóttir\, verkefnisstjóra á þjónustusviði RíkiskaupaHvar verðum við?Hjá Ríkiskaupum\, Borgartúni 7 c\, en
URL:https://dokkan.is/fundur/hvernig-a-ad-bera-sig-ad-i-vidskiptum-vid-rikid/
LOCATION:Dokkan\, Iceland
CATEGORIES:Dokkufundir - fyrir þau sem vita að framtíðin bíður ekki eftir þeim sem bíða...
END:VEVENT
BEGIN:VEVENT
DTSTART;TZID=Atlantic/Reykjavik:20181210T100000
DTEND;TZID=Atlantic/Reykjavik:20181210T110000
DTSTAMP:20260423T173821
CREATED:20200815T123243Z
LAST-MODIFIED:20200815T175613Z
UID:3364-1544436000-1544439600@dokkan.is
SUMMARY:Hvað vilt þú gera á nýju ári?
DESCRIPTION:Hvernig getur þú náð markmiðum þínum á nýju ári? Hvert er leyndarmál þeirra sem alltaf ná markmiðum sínum? Eru þeir eitthvað öðruvísi en ég og þú? Hvað aðferðum beita þeir? Áttu kannski engin markmið? Veistu kannski ekki hvað þú vilt? Ertu bara að láta þig dreyma?Aflið sem býr innra með þér – viltu nýta það?Innra með mér og þér býr afl sem stjórnar öllum okkar ákvörðunum. Það hefur áhrif á hvað við hugsum um og
URL:https://dokkan.is/fundur/hvad-vilt-thu-gera-a-nyju-ari/
LOCATION:Dokkan\, Iceland
CATEGORIES:Dokkufundir - fyrir þau sem vita að framtíðin bíður ekki eftir þeim sem bíða...
END:VEVENT
BEGIN:VEVENT
DTSTART;TZID=Atlantic/Reykjavik:20181210T100000
DTEND;TZID=Atlantic/Reykjavik:20181210T110000
DTSTAMP:20260423T173821
CREATED:20200815T123243Z
LAST-MODIFIED:20200815T175609Z
UID:3362-1544436000-1544439600@dokkan.is
SUMMARY:Uppbygging verkefnastofu hjá Össuri
DESCRIPTION:Global Program Management Office (GPMO) er ein af þremur verkefnastofum Össurar. Þar eru keyrðir stórir alþjóðlegir verkefnastofnar og verkefni sem styðja við stefnu og vöxt fyrirtækisins. Verkefnastofan var sett á laggirnar árið 2011 og hefur vaxið og þróast í takt við aukið flækjustig og breytingar í innra og ytra umhverfi fyrirtækisins.Áherslur fundarins Þróun verkefnastofunnar – Hvernig hafa áskoranir og áherslur breyst? Resource Allocation\, Governance &
URL:https://dokkan.is/fundur/uppbygging-verkefnastofu-hja-ossuri/
LOCATION:Dokkan\, Iceland
CATEGORIES:Dokkufundir - fyrir þau sem vita að framtíðin bíður ekki eftir þeim sem bíða...
END:VEVENT
END:VCALENDAR